BEGIN_USGS_DOQ_HEADER *
QUADRANGLE_NAME "COTTONWOOD PASS" *
QUADRANT SE *
WEST_LONGITUDE -115 26 15.000 *
EAST_LONGITUDE -115 22 30.000 *
NORTH_LATITUDE 35 56 15.000 *
SOUTH_LATITUDE 35 52 30.000 *
PRODUCTION_DATE 2003 2 18 *
RASTER_ORDER LEFT_RIGHT/TOP_BOTTOM *
BAND_ORGANIZATION "SINGLE FILE" *
BAND_CONTENT BLACK&WHITE *
BITS_PER_PIXEL 8 *
SAMPLES_AND_LINES 6429 7627 *
HORIZONTAL_DATUM NAD83 *
HORIZONTAL_COORDINATE_SYSTEM UTM *
COORDINATE_ZONE 11 *
HORIZONTAL_UNITS METERS *
HORIZONTAL_RESOLUTION 1.0 *
SECONDARY_HORIZONTAL_DATUM NAD27 *
XY_ORIGIN 640565.530 3978538.100 *
SECONDARY_XY_ORIGIN 640644.182 3978341.987 *
NATION US *
STATE NV *
NW_QUAD_CORNER_XY 640940.928 3978144.388 *
NE_QUAD_CORNER_XY 646579.030 3978236.456 *
SE_QUAD_CORNER_XY 646694.377 3971303.523 *
SW_QUAD_CORNER_XY 641051.835 3971211.522 *
SECONDARY_NW_QUAD_XY 640944.272 3977944.117 *
SECONDARY_NE_QUAD_XY 646582.508 3978036.188 *
SECONDARY_SE_QUAD_XY 646697.852 3971103.431 *
SECONDARY_SW_QUAD_XY 641055.176 3971011.427 *
RMSE_XY 1.00 *
IMAGE_SOURCE "BLACK AND WHITE FILM" *
SOURCE_IMAGE_ID "NAPP 11624 162" *
SOURCE_IMAGE_DATE 1999 9 26 *
SOURCE_IMAGE_ID "NAPP 11624 161" *
SOURCE_IMAGE_DATE 1999 9 26 *
SOURCE_IMAGE_ID "NAPP 11624 163" *
SOURCE_IMAGE_DATE 1999 9 26 *
SOURCE_IMAGE_ID "NAPP 11624 186" *
SOURCE_IMAGE_DATE 1999 9 26 *
SOURCE_IMAGE_ID "NAPP 11624 185" *
SOURCE_IMAGE_DATE 1999 9 26 *
SOURCE_IMAGE_ID "NAPP 11624 184" *
SOURCE_IMAGE_DATE 1999 9 26 *
SOURCE_DEM_DATE 2003 1 1 *
AGENCY "WESTERN MAPPING CENTER (WMC)" *
PRODUCER "USDA FS GEOSPATIAL SERVICE AND TECHNOLOGY CENTER" *
PRODUCTION_SYSTEM "ORBIT OR_RECTIFY V.5.2" *
STANDARD_VERSION 1996 12 *
METADATA_DATE 2003 2 18 *
DATA_FILE_SIZE 49040412 *
BYTE_COUNT 6429 * * * * * * * * * * * * * * * * * * * * * * * * * * * *
END_USGS_HEADER *
