BEGIN_USGS_DOQ_HEADER *
QUADRANGLE_NAME "POTOSI" *
QUADRANT NE *
WEST_LONGITUDE -115 33 45.000 *
EAST_LONGITUDE -115 30 0.000 *
NORTH_LATITUDE 36 0 0.000 *
SOUTH_LATITUDE 35 56 15.000 *
PRODUCTION_DATE 2003 2 18 *
RASTER_ORDER LEFT_RIGHT/TOP_BOTTOM *
BAND_ORGANIZATION "SINGLE FILE" *
BAND_CONTENT BLACK&WHITE *
BITS_PER_PIXEL 8 *
SAMPLES_AND_LINES 6416 7620 *
HORIZONTAL_DATUM NAD83 *
HORIZONTAL_COORDINATE_SYSTEM UTM *
COORDINATE_ZONE 11 *
HORIZONTAL_UNITS METERS *
HORIZONTAL_RESOLUTION 1.0 *
SECONDARY_HORIZONTAL_DATUM NAD27 *
XY_ORIGIN 629186.850 3985290.850 *
SECONDARY_XY_ORIGIN 629265.683 3985094.812 *
NATION US *
STATE NV *
NW_QUAD_CORNER_XY 629562.696 3984903.901 *
NE_QUAD_CORNER_XY 635196.249 3984988.804 *
SE_QUAD_CORNER_XY 635302.878 3978055.933 *
SW_QUAD_CORNER_XY 629664.879 3977971.091 *
SECONDARY_NW_QUAD_XY 629565.775 3984703.450 *
SECONDARY_NE_QUAD_XY 635199.462 3984788.355 *
SECONDARY_SE_QUAD_XY 635306.088 3977855.661 *
SECONDARY_SW_QUAD_XY 629667.955 3977770.816 *
RMSE_XY 1.00 *
IMAGE_SOURCE "BLACK AND WHITE FILM" *
SOURCE_IMAGE_ID "NAPP 11570 26" *
SOURCE_IMAGE_DATE 1999 9 6 *
SOURCE_IMAGE_ID "NAPP 11570 27" *
SOURCE_IMAGE_DATE 1999 9 6 *
SOURCE_IMAGE_ID "NAPP 11570 25" *
SOURCE_IMAGE_DATE 1999 9 6 *
SOURCE_IMAGE_ID "NAPP 11570 82" *
SOURCE_IMAGE_DATE 1999 9 6 *
SOURCE_IMAGE_ID "NAPP 11570 81" *
SOURCE_IMAGE_DATE 1999 9 6 *
SOURCE_IMAGE_ID "NAPP 11570 80" *
SOURCE_IMAGE_DATE 1999 9 6 *
SOURCE_IMAGE_ID "NAPP 11624 184" *
SOURCE_IMAGE_DATE 1999 9 26 *
SOURCE_IMAGE_ID "NAPP 11624 183" *
SOURCE_IMAGE_DATE 1999 9 26 *
SOURCE_IMAGE_ID "NAPP 11624 182" *
SOURCE_IMAGE_DATE 1999 9 26 *
SOURCE_DEM_DATE 2003 1 1 *
AGENCY "WESTERN MAPPING CENTER (WMC)" *
PRODUCER "USDA FS GEOSPATIAL SERVICE AND TECHNOLOGY CENTER" *
PRODUCTION_SYSTEM "ORBIT OR_RECTIFY V.5.2" *
STANDARD_VERSION 1996 12 *
METADATA_DATE 2003 2 18 *
DATA_FILE_SIZE 48896336 *
BYTE_COUNT 6416 * * * * * * * * * * * * * * * * * * * * * *
END_USGS_HEADER *
