BEGIN_USGS_DOQ_HEADER *
QUADRANGLE_NAME "POTOSI" *
QUADRANT SW *
WEST_LONGITUDE -115 37 30.000 *
EAST_LONGITUDE -115 33 45.000 *
NORTH_LATITUDE 35 56 15.000 *
SOUTH_LATITUDE 35 52 30.000 *
PRODUCTION_DATE 2003 2 18 *
RASTER_ORDER LEFT_RIGHT/TOP_BOTTOM *
BAND_ORGANIZATION "SINGLE FILE" *
BAND_CONTENT BLACK&WHITE *
BITS_PER_PIXEL 8 *
SAMPLES_AND_LINES 6416 7616 *
HORIZONTAL_DATUM NAD83 *
HORIZONTAL_COORDINATE_SYSTEM UTM *
COORDINATE_ZONE 11 *
HORIZONTAL_UNITS METERS *
HORIZONTAL_RESOLUTION 1.0 *
SECONDARY_HORIZONTAL_DATUM NAD27 *
XY_ORIGIN 623650.960 3978273.070 *
SECONDARY_XY_ORIGIN 623729.790 3978077.044 *
NATION US *
STATE NV *
NW_QUAD_CORNER_XY 624026.928 3977889.861 *
NE_QUAD_CORNER_XY 629664.879 3977971.091 *
SE_QUAD_CORNER_XY 629766.907 3971038.349 *
SW_QUAD_CORNER_XY 624124.518 3970957.178 *
SECONDARY_NW_QUAD_XY 624029.871 3977689.585 *
SECONDARY_NE_QUAD_XY 629667.955 3977770.816 *
SECONDARY_SE_QUAD_XY 629769.981 3970838.251 *
SECONDARY_SW_QUAD_XY 624127.458 3970757.078 *
RMSE_XY 1.00 *
IMAGE_SOURCE "BLACK AND WHITE FILM" *
SOURCE_IMAGE_ID "NAPP 11570 83" *
SOURCE_IMAGE_DATE 1999 9 6 *
SOURCE_IMAGE_ID "NAPP 11570 84" *
SOURCE_IMAGE_DATE 1999 9 6 *
SOURCE_IMAGE_ID "NAPP 11570 82" *
SOURCE_IMAGE_DATE 1999 9 6 *
SOURCE_IMAGE_ID "NAPP 11570 29" *
SOURCE_IMAGE_DATE 1999 9 6 *
SOURCE_IMAGE_ID "NAPP 11570 28" *
SOURCE_IMAGE_DATE 1999 9 6 *
SOURCE_IMAGE_ID "NAPP 11570 27" *
SOURCE_IMAGE_DATE 1999 9 6 *
SOURCE_DEM_DATE 2003 1 1 *
AGENCY "WESTERN MAPPING CENTER (WMC)" *
PRODUCER "USDA FS GEOSPATIAL SERVICE AND TECHNOLOGY CENTER" *
PRODUCTION_SYSTEM "ORBIT OR_RECTIFY V.5.2" *
STANDARD_VERSION 1996 12 *
METADATA_DATE 2003 2 18 *
DATA_FILE_SIZE 48870672 *
BYTE_COUNT 6416 * * * * * * * * * * * * * * * * * * * * * * * * * * * *
END_USGS_HEADER *
