BEGIN_USGS_DOQ_HEADER *
QUADRANGLE_NAME "GREEN MONSTER MINE" 3.45 or 7.5-min. name*
QUADRANT SE quadrant indicator if cell size = 3.75-minutes*
WEST_LONGITUDE -115 41 15.000 signed deg min sec SDDD MM SS.SSS*
EAST_LONGITUDE -115 37 30.000 signed deg min sec SDDD MM SS.SSS*
NORTH_LATITUDE 35 56 15.000 signed deg min sec SDDD MM SS.SSS*
SOUTH_LATITUDE 35 52 30.000 signed deg min sec SDDD MM SS.SSS*
PRODUCTION_DATE 1997 2 20 yyyy mm dd*
RASTER_ORDER LEFT_RIGHT/TOP_BOTTOM video display order*
BAND_ORGANIZATION "SINGLE FILE" single file or BSQ, or BIL or BIP*
BAND_CONTENT BLACK&WHITE black&white or red green blue*
BITS_PER_PIXEL 8 radiometric resolution*
SAMPLES_AND_LINES 6450 7650 number of columns and rows*
HORIZONTAL_DATUM NAD83 primary horizontal datum*
HORIZONTAL_COORDINATE_SYSTEM UTM *
COORDINATE_ZONE 11 coordinate system zone number*
HORIZONTAL_UNITS METERS coordinate system units*
HORIZONTAL_RESOLUTION 1.00 pixel horiz. ground sample distance*
SECONDARY_HORIZONTAL_DATUM NAD27 secondary horizontal datum*
XY_ORIGIN 618000.000 3978210.000 coord. of upper left pixel pri. datum*
SECONDARY_XY_ORIGIN 618078.882 3978014.013 coord upper left pixel sec datum*
NATION US nation code*
STATE NV state fip code*
NW_QUAD_CORNER_XY 618389.023 3977812.244 XY coords. of pri. NW quad corner*
NE_QUAD_CORNER_XY 624026.928 3977889.861 XY coords. of pri. NE quad corner*
SE_QUAD_CORNER_XY 624124.518 3970957.178 XY coords. of pri. SE quad corner*
SW_QUAD_CORNER_XY 618482.175 3970879.616 XY coords. of pri. SW quad corner*
SECONDARY_NW_QUAD_XY 618391.830 3977611.964 XY coords. - sec. NW quad cor.*
SECONDARY_NE_QUAD_XY 624029.868 3977689.583 XY coords. - sec. NE quad cor.*
SECONDARY_SE_QUAD_XY 624127.456 3970757.076 XY coords. - sec. SE quad cor.*
SECONDARY_SW_QUAD_XY 618484.979 3970679.513 XY coords. - sec. SW quad cor.*
RMSE_XY 2.00 doq horiz. accuracy*
IMAGE_SOURCE "BLACK AND WHITE FILM" b&w, cir, natural color, other*
SOURCE_IMAGE_ID "NAPP 6812 148" source image id*
SOURCE_IMAGE_DATE 1994 5 29 source image date as yyyy mm dd*
SOURCE_DEM_DATE 1997 2 20 source dem date yyyy mm dd*
AGENCY "WESTERN MAPPING CENTER (WMC)" oversight agency*
PRODUCER "Analytical Surveys" producer/contractor*
PRODUCTION_SYSTEM "ORBIT OR_RECTIFY V.5.2" production system*
STANDARD_VERSION 1996 12 version of DOQ standard*
METADATA_DATE 1997 11 3 date created or changed, yyyy mm dd*
DATA_FILE_SIZE 49348950 data set size in bytes*
BYTE_COUNT 6450 header byte count* * * * * * * * * * * * * * * * * * * * * * * * * * * * * * * * * * * * * *
END_USGS_HEADER *
