BEGIN_USGS_DOQ_HEADER *
QUADRANGLE_NAME "CAVE MOUNTAIN" 3.45 or 7.5-min. name*
QUADRANT SW quadrant indicator if cell size = 3.75-minutes*
WEST_LONGITUDE -116 22 30.000 signed deg min sec SDDD MM SS.SSS*
EAST_LONGITUDE -116 18 45.000 signed deg min sec SDDD MM SS.SSS*
NORTH_LATITUDE 35 3 45.000 signed deg min sec SDDD MM SS.SSS*
SOUTH_LATITUDE 35 0 0.000 signed deg min sec SDDD MM SS.SSS*
PRODUCTION_DATE 1997 2 4 yyyy mm dd*
RASTER_ORDER LEFT_RIGHT/TOP_BOTTOM video display order*
BAND_ORGANIZATION "SINGLE FILE" single file or BSQ, or BIL or BIP*
BAND_CONTENT BLACK&WHITE black&white or red green blue*
BITS_PER_PIXEL 8 radiometric resolution*
SAMPLES_AND_LINES 6450 7590 number of columns and rows*
HORIZONTAL_DATUM NAD83 primary horizontal datum*
HORIZONTAL_COORDINATE_SYSTEM UTM *
COORDINATE_ZONE 11 coordinate system zone number*
HORIZONTAL_UNITS METERS coordinate system units*
HORIZONTAL_RESOLUTION 1.00 pixel horiz. ground sample distance*
SECONDARY_HORIZONTAL_DATUM NAD27 secondary horizontal datum*
XY_ORIGIN 556590.000 3880500.000 coord. of upper left pixel pri. datum*
SECONDARY_XY_ORIGIN 556669.297 3880304.636 coord upper left pixel sec datum*
NATION US nation code*
STATE CA state fip code*
NW_QUAD_CORNER_XY 556989.272 3880152.678 XY coords. of pri. NW quad corner*
NE_QUAD_CORNER_XY 562688.289 3880190.178 XY coords. of pri. NE quad corner*
SE_QUAD_CORNER_XY 562736.032 3873258.959 XY coords. of pri. SE quad corner*
SW_QUAD_CORNER_XY 557032.674 3873221.488 XY coords. of pri. SW quad corner*
SECONDARY_NW_QUAD_XY 556990.592 3879954.930 XY coords. - sec. NW quad cor.*
SECONDARY_NE_QUAD_XY 562689.741 3879992.431 XY coords. - sec. NE quad cor.*
SECONDARY_SE_QUAD_XY 562737.483 3873061.399 XY coords. - sec. SE quad cor.*
SECONDARY_SW_QUAD_XY 557033.993 3873023.928 XY coords. - sec. SW quad cor.*
RMSE_XY 2.50 doq horiz. accuracy*
IMAGE_SOURCE "BLACK AND WHITE FILM" b&w, cir, natural color, other*
SOURCE_IMAGE_ID "NAPP 6809 184" source image id*
SOURCE_IMAGE_DATE 1994 5 28 source image date as yyyy mm dd*
SOURCE_DEM_DATE 1997 2 4 source dem date yyyy mm dd*
AGENCY "WESTERN MAPPING CENTER (WMC)" oversight agency*
PRODUCER "Analytical Surveys" producer/contractor*
PRODUCTION_SYSTEM "ORBIT OR_RECTIFY V.5.2" production system*
STANDARD_VERSION 1996 12 version of DOQ standard*
METADATA_DATE 1997 10 30 date created or changed, yyyy mm dd*
DATA_FILE_SIZE 48961950 data set size in bytes*
BYTE_COUNT 6450 header byte count* * * * * * * * * * * * * * * * * * * * * * * * * * * * * * * * * * * * * *
END_USGS_HEADER *
