BEGIN_USGS_DOQ_HEADER *
QUADRANGLE_NAME "ALVORD MOUNTAIN EAST" *
QUADRANT SW *
NORTH_LATITUDE 35 03 45.000 *
WEST_LONGITUDE -116 37 30.000 *
SOUTH_LATITUDE 35 00 00.000 *
EAST_LONGITUDE -116 33 45.000 *
PRODUCTION_DATE 1998 04 21 *
RASTER_ORDER LEFT_RIGHT/TOP_BOTTOM *
BAND_ORGANIZATION "SINGLE FILE" *
BAND_CONTENT BLACK&WHITE *
BITS_PER_PIXEL 8 *
SAMPLES_AND_LINES 6450 7590 *
HORIZONTAL_DATUM NAD83 *
HORIZONTAL_COORDINATE_SYSTEM UTM *
COORDINATE_ZONE 11 *
HORIZONTAL_UNITS METERS *
HORIZONTAL_RESOLUTION 1.000 *
SECONDARY_HORIZONTAL_DATUM NAD27 *
XY_ORIGIN 533790.000 3880380.000 *
SECONDARY_XY_ORIGIN 533869.463 3880184.581 *
NATION US *
STATE CA *
NW_QUAD_CORNER_XY 534193.414 3880038.395 *
NE_QUAD_CORNER_XY 539892.352 3880061.608 *
SE_QUAD_CORNER_XY 539922.733 3873130.491 *
SW_QUAD_CORNER_XY 534219.455 3873107.296 *
SECONDARY_NW_QUAD_XY 534194.206 3879840.644 *
SECONDARY_NE_QUAD_XY 539893.276 3879863.858 *
SECONDARY_SE_QUAD_XY 539923.656 3872932.929 *
SECONDARY_SW_QUAD_XY 534220.246 3872909.733 *
RMSE_XY 1.544 *
IMAGE_SOURCE "BLACK AND WHITE FILM" *
SOURCE_IMAGE_ID "NAPP 6861 73" *
SOURCE_IMAGE_DATE 1994 05 29 *
SOURCE_DEM_DATE 1986 01 01 *
AGENCY "WESTERN MAPPING CENTER (WMC)" *
PRODUCER "ANALYTICAL SURVEYS INC." *
PRODUCTION_SYSTEM "ORBIT OR_RECTIFY V.5.2" *
STANDARD_VERSION 1996 12 *
METADATA_DATE 1998 04 21 *
DATA_FILE_SIZE 48961950 *
BYTE_COUNT 6450 * * * * * * * * * * * * * * * * * * * * * * * * * * * * * * * * * * * * * *
END_USGS_HEADER *
