BEGIN_USGS_DOQ_HEADER *
QUADRANGLE_NAME "WILLIAMS WELL" *
QUADRANT NE *
NORTH_LATITUDE 35 15 00.000 *
WEST_LONGITUDE -116 56 15.000 *
SOUTH_LATITUDE 35 11 15.000 *
EAST_LONGITUDE -116 52 30.000 *
PRODUCTION_DATE 1998 04 25 *
RASTER_ORDER LEFT_RIGHT/TOP_BOTTOM *
BAND_ORGANIZATION "SINGLE FILE" *
BAND_CONTENT BLACK&WHITE *
BITS_PER_PIXEL 8 *
SAMPLES_AND_LINES 6420 7560 *
HORIZONTAL_DATUM NAD83 *
HORIZONTAL_COORDINATE_SYSTEM UTM *
COORDINATE_ZONE 11 *
HORIZONTAL_UNITS METERS *
HORIZONTAL_RESOLUTION 1.000 *
SECONDARY_HORIZONTAL_DATUM NAD27 *
XY_ORIGIN 505290.000 3901080.000 *
SECONDARY_XY_ORIGIN 505369.294 3900884.783 *
NATION US *
STATE CA *
NW_QUAD_CORNER_XY 505685.828 3900769.476 *
NE_QUAD_CORNER_XY 511371.659 3900774.846 *
SE_QUAD_CORNER_XY 511380.379 3893843.577 *
SW_QUAD_CORNER_XY 505690.189 3893838.212 *
SECONDARY_NW_QUAD_XY 505685.961 3900571.166 *
SECONDARY_NE_QUAD_XY 511371.923 3900576.535 *
SECONDARY_SE_QUAD_XY 511380.644 3893645.452 *
SECONDARY_SW_QUAD_XY 505690.321 3893640.087 *
RMSE_XY 1.427 *
IMAGE_SOURCE "BLACK AND WHITE FILM" *
SOURCE_IMAGE_ID "NAPP 6873 152" *
SOURCE_IMAGE_DATE 1995 10 01 *
SOURCE_DEM_DATE 1983 01 01 *
AGENCY "WESTERN MAPPING CENTER (WMC)" *
PRODUCER "ANALYTICAL SURVEYS INC." *
PRODUCTION_SYSTEM "ORBIT OR_RECTIFY V.5.2" *
STANDARD_VERSION 1996 12 *
METADATA_DATE 1998 04 25 *
DATA_FILE_SIZE 48541620 *
BYTE_COUNT 6420 * * * * * * * * * * * * * * * * * * * * * * * * * * * * * * * * * * * * * *
END_USGS_HEADER *
