BEGIN_USGS_DOQ_HEADER *
QUADRANGLE_NAME "WEST OF BAKER" 3.45 or 7.5-min. name*
QUADRANT SE quadrant indicator if cell size = 3.75-minutes*
WEST_LONGITUDE -116 11 15.000 signed deg min sec SDDD MM SS.SSS*
EAST_LONGITUDE -116 7 30.000 signed deg min sec SDDD MM SS.SSS*
NORTH_LATITUDE 35 18 45.000 signed deg min sec SDDD MM SS.SSS*
SOUTH_LATITUDE 35 15 0.000 signed deg min sec SDDD MM SS.SSS*
PRODUCTION_DATE 1997 2 4 yyyy mm dd*
RASTER_ORDER LEFT_RIGHT/TOP_BOTTOM video display order*
BAND_ORGANIZATION "SINGLE FILE" single file or BSQ, or BIL or BIP*
BAND_CONTENT BLACK&WHITE black&white or red green blue*
BITS_PER_PIXEL 8 radiometric resolution*
SAMPLES_AND_LINES 6450 7620 number of columns and rows*
HORIZONTAL_DATUM NAD83 primary horizontal datum*
HORIZONTAL_COORDINATE_SYSTEM UTM *
COORDINATE_ZONE 11 coordinate system zone number*
HORIZONTAL_UNITS METERS coordinate system units*
HORIZONTAL_RESOLUTION 1.00 pixel horiz. ground sample distance*
SECONDARY_HORIZONTAL_DATUM NAD27 secondary horizontal datum*
XY_ORIGIN 573480.000 3908370.000 coord. of upper left pixel pri. datum*
SECONDARY_XY_ORIGIN 573559.019 3908174.448 coord upper left pixel sec datum*
NATION US nation code*
STATE CA state fip code*
NW_QUAD_CORNER_XY 573859.818 3908001.748 XY coords. of pri. NW quad corner*
NE_QUAD_CORNER_XY 579541.485 3908050.115 XY coords. of pri. NE quad corner*
SE_QUAD_CORNER_XY 579602.631 3901118.509 XY coords. of pri. SE quad corner*
SW_QUAD_CORNER_XY 573916.596 3901070.179 XY coords. of pri. SW quad corner*
SECONDARY_NW_QUAD_XY 573861.540 3907803.260 XY coords. - sec. NW quad cor.*
SECONDARY_NE_QUAD_XY 579543.339 3907851.628 XY coords. - sec. NE quad cor.*
SECONDARY_SE_QUAD_XY 579604.485 3900920.207 XY coords. - sec. SE quad cor.*
SECONDARY_SW_QUAD_XY 573918.317 3900871.875 XY coords. - sec. SW quad cor.*
RMSE_XY 1.70 doq horiz. accuracy*
IMAGE_SOURCE "BLACK AND WHITE FILM" b&w, cir, natural color, other*
SOURCE_IMAGE_ID "NAPP 6820 196" source image id*
SOURCE_IMAGE_DATE 1995 9 29 source image date as yyyy mm dd*
SOURCE_DEM_DATE 1997 2 4 source dem date yyyy mm dd*
AGENCY "WESTERN MAPPING CENTER (WMC)" oversight agency*
PRODUCER "Analytical Surveys" producer/contractor*
PRODUCTION_SYSTEM "ORBIT OR_RECTIFY V.5.2" production system*
STANDARD_VERSION 1996 12 version of DOQ standard*
METADATA_DATE 1997 11 1 date created or changed, yyyy mm dd*
DATA_FILE_SIZE 49155450 data set size in bytes*
BYTE_COUNT 6450 header byte count* * * * * * * * * * * * * * * * * * * * * * * * * * * * * * * * * * * * * *
END_USGS_HEADER *
