BEGIN_USGS_DOQ_HEADER *
QUADRANGLE_NAME "SILURIAN VALLEY" 3.45 or 7.5-min. name*
QUADRANT NW quadrant indicator if cell size = 3.75-minutes*
WEST_LONGITUDE -116 15 0.000 signed deg min sec SDDD MM SS.SSS*
EAST_LONGITUDE -116 11 15.000 signed deg min sec SDDD MM SS.SSS*
NORTH_LATITUDE 35 30 0.000 signed deg min sec SDDD MM SS.SSS*
SOUTH_LATITUDE 35 26 15.000 signed deg min sec SDDD MM SS.SSS*
PRODUCTION_DATE 1997 2 4 yyyy mm dd*
RASTER_ORDER LEFT_RIGHT/TOP_BOTTOM video display order*
BAND_ORGANIZATION "SINGLE FILE" single file or BSQ, or BIL or BIP*
BAND_CONTENT BLACK&WHITE black&white or red green blue*
BITS_PER_PIXEL 8 radiometric resolution*
SAMPLES_AND_LINES 6420 7590 number of columns and rows*
HORIZONTAL_DATUM NAD83 primary horizontal datum*
HORIZONTAL_COORDINATE_SYSTEM UTM *
COORDINATE_ZONE 11 coordinate system zone number*
HORIZONTAL_UNITS METERS coordinate system units*
HORIZONTAL_RESOLUTION 1.00 pixel horiz. ground sample distance*
SECONDARY_HORIZONTAL_DATUM NAD27 secondary horizontal datum*
XY_ORIGIN 567630.000 3929100.000 coord. of upper left pixel pri. datum*
SECONDARY_XY_ORIGIN 567708.930 3928904.303 coord upper left pixel sec datum*
NATION US nation code*
STATE CA state fip code*
NW_QUAD_CORNER_XY 568020.463 3928751.990 XY coords. of pri. NW quad corner*
NE_QUAD_CORNER_XY 573688.955 3928796.876 XY coords. of pri. NE quad corner*
SE_QUAD_CORNER_XY 573745.997 3921865.097 XY coords. of pri. SE quad corner*
SW_QUAD_CORNER_XY 568073.116 3921820.244 XY coords. of pri. SW quad corner*
SECONDARY_NW_QUAD_XY 568022.057 3928552.951 XY coords. - sec. NW quad cor.*
SECONDARY_NE_QUAD_XY 573690.682 3928597.839 XY coords. - sec. NE quad cor.*
SECONDARY_SE_QUAD_XY 573747.722 3921666.241 XY coords. - sec. SE quad cor.*
SECONDARY_SW_QUAD_XY 568074.709 3921621.387 XY coords. - sec. SW quad cor.*
RMSE_XY 2.50 doq horiz. accuracy*
IMAGE_SOURCE "BLACK AND WHITE FILM" b&w, cir, natural color, other*
SOURCE_IMAGE_ID "NAPP 6820 170" source image id*
SOURCE_IMAGE_DATE 1995 9 29 source image date as yyyy mm dd*
SOURCE_DEM_DATE 1997 2 4 source dem date yyyy mm dd*
AGENCY "WESTERN MAPPING CENTER (WMC)" oversight agency*
PRODUCER "Analytical Surveys" producer/contractor*
PRODUCTION_SYSTEM "ORBIT OR_RECTIFY V.5.2" production system*
STANDARD_VERSION 1996 12 version of DOQ standard*
METADATA_DATE 1997 11 1 date created or changed, yyyy mm dd*
DATA_FILE_SIZE 48734220 data set size in bytes*
BYTE_COUNT 6420 header byte count* * * * * * * * * * * * * * * * * * * * * * * * * * * * * * * * * * * * * *
END_USGS_HEADER *
