BEGIN_USGS_DOQ_HEADER *
QUADRANGLE_NAME "DRINKWATER LAKE" 3.45 or 7.5-min. name*
QUADRANT NE quadrant indicator if cell size = 3.75-minutes*
WEST_LONGITUDE -116 33 45.000 signed deg min sec SDDD MM SS.SSS*
EAST_LONGITUDE -116 30 0.000 signed deg min sec SDDD MM SS.SSS*
NORTH_LATITUDE 35 30 0.000 signed deg min sec SDDD MM SS.SSS*
SOUTH_LATITUDE 35 26 15.000 signed deg min sec SDDD MM SS.SSS*
PRODUCTION_DATE 1997 1 8 yyyy mm dd*
RASTER_ORDER LEFT_RIGHT/TOP_BOTTOM video display order*
BAND_ORGANIZATION "SINGLE FILE" single file or BSQ, or BIL or BIP*
BAND_CONTENT BLACK&WHITE black&white or red green blue*
BITS_PER_PIXEL 8 radiometric resolution*
SAMPLES_AND_LINES 6420 7590 number of columns and rows*
HORIZONTAL_DATUM NAD83 primary horizontal datum*
HORIZONTAL_COORDINATE_SYSTEM UTM *
COORDINATE_ZONE 11 coordinate system zone number*
HORIZONTAL_UNITS METERS coordinate system units*
HORIZONTAL_RESOLUTION 1.00 pixel horiz. ground sample distance*
SECONDARY_HORIZONTAL_DATUM NAD27 secondary horizontal datum*
XY_ORIGIN 539280.000 3928920.000 coord. of upper left pixel pri. datum*
SECONDARY_XY_ORIGIN 539359.203 3928724.646 coord upper left pixel sec datum*
NATION US nation code*
STATE CA state fip code*
NW_QUAD_CORNER_XY 539678.358 3928581.427 XY coords. of pri. NW quad corner*
NE_QUAD_CORNER_XY 545346.739 3928608.357 XY coords. of pri. NE quad corner*
SE_QUAD_CORNER_XY 545381.840 3921676.720 XY coords. of pri. SE quad corner*
SW_QUAD_CORNER_XY 539709.071 3921649.810 XY coords. of pri. SW quad corner*
SECONDARY_NW_QUAD_XY 539679.288 3928382.384 XY coords. - sec. NW quad cor.*
SECONDARY_NE_QUAD_XY 545347.802 3928409.315 XY coords. - sec. NE quad cor.*
SECONDARY_SE_QUAD_XY 545382.901 3921477.860 XY coords. - sec. SE quad cor.*
SECONDARY_SW_QUAD_XY 539710.000 3921450.950 XY coords. - sec. SW quad cor.*
RMSE_XY 1.80 doq horiz. accuracy*
IMAGE_SOURCE "BLACK AND WHITE FILM" b&w, cir, natural color, other*
SOURCE_IMAGE_ID "NAPP 6871 093" source image id*
SOURCE_IMAGE_DATE 1995 9 30 source image date as yyyy mm dd*
SOURCE_DEM_DATE 1997 1 8 source dem date yyyy mm dd*
AGENCY "WESTERN MAPPING CENTER (WMC)" oversight agency*
PRODUCER "Analytical Surveys" producer/contractor*
PRODUCTION_SYSTEM "ORBIT OR_RECTIFY V.5.2" production system*
STANDARD_VERSION 1996 12 version of DOQ standard*
METADATA_DATE 1997 11 10 date created or changed, yyyy mm dd*
DATA_FILE_SIZE 48734220 data set size in bytes*
BYTE_COUNT 6420 header byte count* * * * * * * * * * * * * * * * * * * * * * * * * * * * * * * * * * * * * *
END_USGS_HEADER *
