BEGIN_USGS_DOQ_HEADER *
QUADRANGLE_NAME "WEST OF DRINKWATER LAKE" 3.45 or 7.5-min. name*
QUADRANT NW quadrant indicator if cell size = 3.75-minutes*
WEST_LONGITUDE -116 45 0.000 signed deg min sec SDDD MM SS.SSS*
EAST_LONGITUDE -116 41 15.000 signed deg min sec SDDD MM SS.SSS*
NORTH_LATITUDE 35 30 0.000 signed deg min sec SDDD MM SS.SSS*
SOUTH_LATITUDE 35 26 15.000 signed deg min sec SDDD MM SS.SSS*
PRODUCTION_DATE 1997 1 8 yyyy mm dd*
RASTER_ORDER LEFT_RIGHT/TOP_BOTTOM video display order*
BAND_ORGANIZATION "SINGLE FILE" single file or BSQ, or BIL or BIP*
BAND_CONTENT BLACK&WHITE black&white or red green blue*
BITS_PER_PIXEL 8 radiometric resolution*
SAMPLES_AND_LINES 6420 7590 number of columns and rows*
HORIZONTAL_DATUM NAD83 primary horizontal datum*
HORIZONTAL_COORDINATE_SYSTEM UTM *
COORDINATE_ZONE 11 coordinate system zone number*
HORIZONTAL_UNITS METERS coordinate system units*
HORIZONTAL_RESOLUTION 1.00 pixel horiz. ground sample distance*
SECONDARY_HORIZONTAL_DATUM NAD27 secondary horizontal datum*
XY_ORIGIN 522270.000 3928860.000 coord. of upper left pixel pri. datum*
SECONDARY_XY_ORIGIN 522349.154 3928664.776 coord upper left pixel sec datum*
NATION US nation code*
STATE CA state fip code*
NW_QUAD_CORNER_XY 522673.299 3928522.181 XY coords. of pri. NW quad corner*
NE_QUAD_CORNER_XY 528341.640 3928538.339 XY coords. of pri. NE quad corner*
SE_QUAD_CORNER_XY 528363.577 3921606.755 XY coords. of pri. SE quad corner*
SW_QUAD_CORNER_XY 522690.848 3921590.609 XY coords. of pri. SW quad corner*
SECONDARY_NW_QUAD_XY 522673.830 3928323.137 XY coords. - sec. NW quad cor.*
SECONDARY_NE_QUAD_XY 528342.304 3928339.295 XY coords. - sec. NE quad cor.*
SECONDARY_SE_QUAD_XY 528364.241 3921407.893 XY coords. - sec. SE quad cor.*
SECONDARY_SW_QUAD_XY 522691.379 3921391.747 XY coords. - sec. SW quad cor.*
RMSE_XY 1.60 doq horiz. accuracy*
IMAGE_SOURCE "BLACK AND WHITE FILM" b&w, cir, natural color, other*
SOURCE_IMAGE_ID "NAPP 6870 124" source image id*
SOURCE_IMAGE_DATE 1994 6 8 source image date as yyyy mm dd*
SOURCE_DEM_DATE 1997 1 8 source dem date yyyy mm dd*
AGENCY "WESTERN MAPPING CENTER (WMC)" oversight agency*
PRODUCER "Analytical Surveys" producer/contractor*
PRODUCTION_SYSTEM "ORBIT OR_RECTIFY V.5.2" production system*
STANDARD_VERSION 1996 12 version of DOQ standard*
METADATA_DATE 1997 11 8 date created or changed, yyyy mm dd*
DATA_FILE_SIZE 48734220 data set size in bytes*
BYTE_COUNT 6420 header byte count* * * * * * * * * * * * * * * * * * * * * * * * * * * * * * * * * * * * * *
END_USGS_HEADER *
