BEGIN_USGS_DOQ_HEADER *
QUADRANGLE_NAME "AVAWATZ PASS" 3.45 or 7.5-min. name*
QUADRANT NE quadrant indicator if cell size = 3.75-minutes*
WEST_LONGITUDE -116 26 15.000 signed deg min sec SDDD MM SS.SSS*
EAST_LONGITUDE -116 22 30.000 signed deg min sec SDDD MM SS.SSS*
NORTH_LATITUDE 35 37 30.000 signed deg min sec SDDD MM SS.SSS*
SOUTH_LATITUDE 35 33 45.000 signed deg min sec SDDD MM SS.SSS*
PRODUCTION_DATE 1997 1 8 yyyy mm dd*
RASTER_ORDER LEFT_RIGHT/TOP_BOTTOM video display order*
BAND_ORGANIZATION "SINGLE FILE" single file or BSQ, or BIL or BIP*
BAND_CONTENT BLACK&WHITE black&white or red green blue*
BITS_PER_PIXEL 8 radiometric resolution*
SAMPLES_AND_LINES 6420 7590 number of columns and rows*
HORIZONTAL_DATUM NAD83 primary horizontal datum*
HORIZONTAL_COORDINATE_SYSTEM UTM *
COORDINATE_ZONE 11 coordinate system zone number*
HORIZONTAL_UNITS METERS coordinate system units*
HORIZONTAL_RESOLUTION 1.00 pixel horiz. ground sample distance*
SECONDARY_HORIZONTAL_DATUM NAD27 secondary horizontal datum*
XY_ORIGIN 550530.000 3942840.000 coord. of upper left pixel pri. datum*
SECONDARY_XY_ORIGIN 550609.104 3942644.519 coord upper left pixel sec datum*
NATION US nation code*
STATE CA state fip code*
NW_QUAD_CORNER_XY 550935.978 3942502.413 XY coords. of pri. NW quad corner*
NE_QUAD_CORNER_XY 556595.600 3942536.577 XY coords. of pri. NE quad corner*
SE_QUAD_CORNER_XY 556639.612 3935604.748 XY coords. of pri. SE quad corner*
SW_QUAD_CORNER_XY 550975.588 3935570.610 XY coords. of pri. SW quad corner*
SECONDARY_NW_QUAD_XY 550937.175 3942303.010 XY coords. - sec. NW quad cor.*
SECONDARY_NE_QUAD_XY 556596.931 3942337.174 XY coords. - sec. NE quad cor.*
SECONDARY_SE_QUAD_XY 556640.942 3935405.526 XY coords. - sec. SE quad cor.*
SECONDARY_SW_QUAD_XY 550976.785 3935371.387 XY coords. - sec. SW quad cor.*
RMSE_XY 2.40 doq horiz. accuracy*
IMAGE_SOURCE "BLACK AND WHITE FILM" b&w, cir, natural color, other*
SOURCE_IMAGE_ID "NAPP 6820 083" source image id*
SOURCE_IMAGE_DATE 1995 9 29 source image date as yyyy mm dd*
SOURCE_DEM_DATE 1997 1 8 source dem date yyyy mm dd*
AGENCY "WESTERN MAPPING CENTER (WMC)" oversight agency*
PRODUCER "Analytical Surveys" producer/contractor*
PRODUCTION_SYSTEM "ORBIT OR_RECTIFY V.5.2" production system*
STANDARD_VERSION 1996 12 version of DOQ standard*
METADATA_DATE 1997 11 10 date created or changed, yyyy mm dd*
DATA_FILE_SIZE 48734220 data set size in bytes*
BYTE_COUNT 6420 header byte count* * * * * * * * * * * * * * * * * * * * * * * * * * * * * * * * * * * * * *
END_USGS_HEADER *
