BEGIN_USGS_DOQ_HEADER *
QUADRANGLE_NAME "HIDDEN SPRING" 3.45 or 7.5-min. name*
QUADRANT NE quadrant indicator if cell size = 3.75-minutes*
WEST_LONGITUDE -116 56 15.000 signed deg min sec SDDD MM SS.SSS*
EAST_LONGITUDE -116 52 30.000 signed deg min sec SDDD MM SS.SSS*
NORTH_LATITUDE 35 45 0.000 signed deg min sec SDDD MM SS.SSS*
SOUTH_LATITUDE 35 41 15.000 signed deg min sec SDDD MM SS.SSS*
PRODUCTION_DATE 1997 1 28 yyyy mm dd*
RASTER_ORDER LEFT_RIGHT/TOP_BOTTOM video display order*
BAND_ORGANIZATION "SINGLE FILE" single file or BSQ, or BIL or BIP*
BAND_CONTENT BLACK&WHITE black&white or red green blue*
BITS_PER_PIXEL 8 radiometric resolution*
SAMPLES_AND_LINES 6360 7590 number of columns and rows*
HORIZONTAL_DATUM NAD83 primary horizontal datum*
HORIZONTAL_COORDINATE_SYSTEM UTM *
COORDINATE_ZONE 11 coordinate system zone number*
HORIZONTAL_UNITS METERS coordinate system units*
HORIZONTAL_RESOLUTION 1.00 pixel horiz. ground sample distance*
SECONDARY_HORIZONTAL_DATUM NAD27 secondary horizontal datum*
XY_ORIGIN 505260.000 3956550.000 coord. of upper left pixel pri. datum*
SECONDARY_XY_ORIGIN 505339.369 3956354.883 coord upper left pixel sec datum*
NATION US nation code*
STATE CA state fip code*
NW_QUAD_CORNER_XY 505650.702 3956222.178 XY coords. of pri. NW quad corner*
NE_QUAD_CORNER_XY 511301.406 3956227.580 XY coords. of pri. NE quad corner*
SE_QUAD_CORNER_XY 511310.235 3949295.736 XY coords. of pri. SE quad corner*
SW_QUAD_CORNER_XY 505655.116 3949290.338 XY coords. of pri. SW quad corner*
SECONDARY_NW_QUAD_XY 505650.835 3956022.412 XY coords. - sec. NW quad cor.*
SECONDARY_NE_QUAD_XY 511301.672 3956027.814 XY coords. - sec. NE quad cor.*
SECONDARY_SE_QUAD_XY 511310.501 3949096.150 XY coords. - sec. SE quad cor.*
SECONDARY_SW_QUAD_XY 505655.249 3949090.751 XY coords. - sec. SW quad cor.*
RMSE_XY 2.10 doq horiz. accuracy*
IMAGE_SOURCE "BLACK AND WHITE FILM" b&w, cir, natural color, other*
SOURCE_IMAGE_ID "NAPP 6870 092" source image id*
SOURCE_IMAGE_DATE 1994 6 8 source image date as yyyy mm dd*
SOURCE_DEM_DATE 1997 1 28 source dem date yyyy mm dd*
AGENCY "WESTERN MAPPING CENTER (WMC)" oversight agency*
PRODUCER "Analytical Surveys" producer/contractor*
PRODUCTION_SYSTEM "ORBIT OR_RECTIFY V.5.2" production system*
STANDARD_VERSION 1996 12 version of DOQ standard*
METADATA_DATE 1997 11 2 date created or changed, yyyy mm dd*
DATA_FILE_SIZE 48278760 data set size in bytes*
BYTE_COUNT 6360 header byte count* * * * * * * * * * * * * * * * * * * * * * * * * * * * * * * * * * * * *
END_USGS_HEADER *
