BEGIN_USGS_DOQ_HEADER *
QUADRANGLE_NAME "TECOPA PASS" 3.45 or 7.5-min. name*
QUADRANT SW quadrant indicator if cell size = 3.75-minutes*
WEST_LONGITUDE -116 7 30.000 signed deg min sec SDDD MM SS.SSS*
EAST_LONGITUDE -116 3 45.000 signed deg min sec SDDD MM SS.SSS*
NORTH_LATITUDE 35 48 45.000 signed deg min sec SDDD MM SS.SSS*
SOUTH_LATITUDE 35 45 0.000 signed deg min sec SDDD MM SS.SSS*
PRODUCTION_DATE 1997 2 20 yyyy mm dd*
RASTER_ORDER LEFT_RIGHT/TOP_BOTTOM video display order*
BAND_ORGANIZATION "SINGLE FILE" single file or BSQ, or BIL or BIP*
BAND_CONTENT BLACK&WHITE black&white or red green blue*
BITS_PER_PIXEL 8 radiometric resolution*
SAMPLES_AND_LINES 6420 7620 number of columns and rows*
HORIZONTAL_DATUM NAD83 primary horizontal datum*
HORIZONTAL_COORDINATE_SYSTEM UTM *
COORDINATE_ZONE 11 coordinate system zone number*
HORIZONTAL_UNITS METERS coordinate system units*
HORIZONTAL_RESOLUTION 1.00 pixel horiz. ground sample distance*
SECONDARY_HORIZONTAL_DATUM NAD27 secondary horizontal datum*
XY_ORIGIN 578670.000 3963870.000 coord. of upper left pixel pri. datum*
SECONDARY_XY_ORIGIN 578748.970 3963674.261 coord upper left pixel sec datum*
NATION US nation code*
STATE CA state fip code*
NW_QUAD_CORNER_XY 579048.902 3963505.493 XY coords. of pri. NW quad corner*
NE_QUAD_CORNER_XY 584695.407 3963557.756 XY coords. of pri. NE quad corner*
SE_QUAD_CORNER_XY 584761.733 3956625.550 XY coords. of pri. SE quad corner*
SW_QUAD_CORNER_XY 579110.805 3956573.324 XY coords. of pri. SW quad corner*
SECONDARY_NW_QUAD_XY 579050.770 3963305.557 XY coords. - sec. NW quad cor.*
SECONDARY_NE_QUAD_XY 584697.408 3963357.821 XY coords. - sec. NE quad cor.*
SECONDARY_SE_QUAD_XY 584763.733 3956425.793 XY coords. - sec. SE quad cor.*
SECONDARY_SW_QUAD_XY 579112.672 3956373.567 XY coords. - sec. SW quad cor.*
RMSE_XY 1.80 doq horiz. accuracy*
IMAGE_SOURCE "BLACK AND WHITE FILM" b&w, cir, natural color, other*
SOURCE_IMAGE_ID "NAPP 6806 075" source image id*
SOURCE_IMAGE_DATE 1994 5 22 source image date as yyyy mm dd*
SOURCE_DEM_DATE 1997 2 20 source dem date yyyy mm dd*
AGENCY "WESTERN MAPPING CENTER (WMC)" oversight agency*
PRODUCER "Analytical Surveys" producer/contractor*
PRODUCTION_SYSTEM "ORBIT OR_RECTIFY V.5.2" production system*
STANDARD_VERSION 1996 12 version of DOQ standard*
METADATA_DATE 1997 11 3 date created or changed, yyyy mm dd*
DATA_FILE_SIZE 48926820 data set size in bytes*
BYTE_COUNT 6420 header byte count* * * * * * * * * * * * * * * * * * * * * * * * * * * * * * * * * * * * * *
END_USGS_HEADER *
