BEGIN_USGS_DOQ_HEADER *
QUADRANGLE_NAME "IBEX PASS" 3.45 or 7.5-min. name*
QUADRANT NE quadrant indicator if cell size = 3.75-minutes*
WEST_LONGITUDE -116 18 45.000 signed deg min sec SDDD MM SS.SSS*
EAST_LONGITUDE -116 15 0.000 signed deg min sec SDDD MM SS.SSS*
NORTH_LATITUDE 35 52 30.000 signed deg min sec SDDD MM SS.SSS*
SOUTH_LATITUDE 35 48 45.000 signed deg min sec SDDD MM SS.SSS*
PRODUCTION_DATE 1997 1 30 yyyy mm dd*
RASTER_ORDER LEFT_RIGHT/TOP_BOTTOM video display order*
BAND_ORGANIZATION "SINGLE FILE" single file or BSQ, or BIL or BIP*
BAND_CONTENT BLACK&WHITE black&white or red green blue*
BITS_PER_PIXEL 8 radiometric resolution*
SAMPLES_AND_LINES 6420 7590 number of columns and rows*
HORIZONTAL_DATUM NAD83 primary horizontal datum*
HORIZONTAL_COORDINATE_SYSTEM UTM *
COORDINATE_ZONE 11 coordinate system zone number*
HORIZONTAL_UNITS METERS coordinate system units*
HORIZONTAL_RESOLUTION 1.00 pixel horiz. ground sample distance*
SECONDARY_HORIZONTAL_DATUM NAD27 secondary horizontal datum*
XY_ORIGIN 561660.000 3970650.000 coord. of upper left pixel pri. datum*
SECONDARY_XY_ORIGIN 561739.098 3970454.404 coord upper left pixel sec datum*
NATION US nation code*
STATE CA state fip code*
NW_QUAD_CORNER_XY 562060.847 3970302.474 XY coords. of pri. NW quad corner*
NE_QUAD_CORNER_XY 567702.840 3970343.953 XY coords. of pri. NE quad corner*
SE_QUAD_CORNER_XY 567755.979 3963411.782 XY coords. of pri. SE quad corner*
SW_QUAD_CORNER_XY 562109.558 3963370.333 XY coords. of pri. SW quad corner*
SECONDARY_NW_QUAD_XY 562062.316 3970102.357 XY coords. - sec. NW quad cor.*
SECONDARY_NE_QUAD_XY 567704.442 3970143.837 XY coords. - sec. NE quad cor.*
SECONDARY_SE_QUAD_XY 567757.580 3963211.843 XY coords. - sec. SE quad cor.*
SECONDARY_SW_QUAD_XY 562111.025 3963170.394 XY coords. - sec. SW quad cor.*
RMSE_XY 2.80 doq horiz. accuracy*
IMAGE_SOURCE "BLACK AND WHITE FILM" b&w, cir, natural color, other*
SOURCE_IMAGE_ID "NAPP 6810 060" source image id*
SOURCE_IMAGE_DATE 1994 5 28 source image date as yyyy mm dd*
SOURCE_DEM_DATE 1997 1 30 source dem date yyyy mm dd*
AGENCY "WESTERN MAPPING CENTER (WMC)" oversight agency*
PRODUCER "Analytical Surveys" producer/contractor*
PRODUCTION_SYSTEM "ORBIT OR_RECTIFY V.5.2" production system*
STANDARD_VERSION 1996 12 version of DOQ standard*
METADATA_DATE 1997 11 2 date created or changed, yyyy mm dd*
DATA_FILE_SIZE 48734220 data set size in bytes*
BYTE_COUNT 6420 header byte count* * * * * * * * * * * * * * * * * * * * * * * * * * * * * * * * * * * * * *
END_USGS_HEADER *
