BEGIN_USGS_DOQ_HEADER *
QUADRANGLE_NAME "IBEX PASS" 3.45 or 7.5-min. name*
QUADRANT SW quadrant indicator if cell size = 3.75-minutes*
WEST_LONGITUDE -116 22 30.000 signed deg min sec SDDD MM SS.SSS*
EAST_LONGITUDE -116 18 45.000 signed deg min sec SDDD MM SS.SSS*
NORTH_LATITUDE 35 48 45.000 signed deg min sec SDDD MM SS.SSS*
SOUTH_LATITUDE 35 45 0.000 signed deg min sec SDDD MM SS.SSS*
PRODUCTION_DATE 1997 1 30 yyyy mm dd*
RASTER_ORDER LEFT_RIGHT/TOP_BOTTOM video display order*
BAND_ORGANIZATION "SINGLE FILE" single file or BSQ, or BIL or BIP*
BAND_CONTENT BLACK&WHITE black&white or red green blue*
BITS_PER_PIXEL 8 radiometric resolution*
SAMPLES_AND_LINES 6390 7620 number of columns and rows*
HORIZONTAL_DATUM NAD83 primary horizontal datum*
HORIZONTAL_COORDINATE_SYSTEM UTM *
COORDINATE_ZONE 11 coordinate system zone number*
HORIZONTAL_UNITS METERS coordinate system units*
HORIZONTAL_RESOLUTION 1.00 pixel horiz. ground sample distance*
SECONDARY_HORIZONTAL_DATUM NAD27 secondary horizontal datum*
XY_ORIGIN 556080.000 3963690.000 coord. of upper left pixel pri. datum*
SECONDARY_XY_ORIGIN 556159.082 3963494.452 coord upper left pixel sec datum*
NATION US nation code*
STATE CA state fip code*
NW_QUAD_CORNER_XY 556463.159 3963332.490 XY coords. of pri. NW quad corner*
NE_QUAD_CORNER_XY 562109.558 3963370.333 XY coords. of pri. NE quad corner*
SE_QUAD_CORNER_XY 562158.194 3956438.263 XY coords. of pri. SE quad corner*
SW_QUAD_CORNER_XY 556507.374 3956400.447 XY coords. of pri. SW quad corner*
SECONDARY_NW_QUAD_XY 556464.493 3963132.549 XY coords. - sec. NW quad cor.*
SECONDARY_NE_QUAD_XY 562111.025 3963170.394 XY coords. - sec. NE quad cor.*
SECONDARY_SE_QUAD_XY 562159.660 3956238.502 XY coords. - sec. SE quad cor.*
SECONDARY_SW_QUAD_XY 556508.707 3956200.685 XY coords. - sec. SW quad cor.*
RMSE_XY 3.00 doq horiz. accuracy*
IMAGE_SOURCE "BLACK AND WHITE FILM" b&w, cir, natural color, other*
SOURCE_IMAGE_ID "NAPP 6809 208" source image id*
SOURCE_IMAGE_DATE 1994 5 28 source image date as yyyy mm dd*
SOURCE_DEM_DATE 1997 1 30 source dem date yyyy mm dd*
AGENCY "WESTERN MAPPING CENTER (WMC)" oversight agency*
PRODUCER "Analytical Surveys" producer/contractor*
PRODUCTION_SYSTEM "ORBIT OR_RECTIFY V.5.2" production system*
STANDARD_VERSION 1996 12 version of DOQ standard*
METADATA_DATE 1997 11 2 date created or changed, yyyy mm dd*
DATA_FILE_SIZE 48698190 data set size in bytes*
BYTE_COUNT 6390 header byte count* * * * * * * * * * * * * * * * * * * * * * * * * * * * * * * * * * * * *
END_USGS_HEADER *
