BEGIN_USGS_DOQ_HEADER *
QUADRANGLE_NAME "MUD HILLS" *
QUADRANT NW *
NORTH_LATITUDE 35 07 30.000 *
WEST_LONGITUDE -117 07 30.000 *
SOUTH_LATITUDE 35 03 45.000 *
EAST_LONGITUDE -117 03 45.000 *
PRODUCTION_DATE 1998 04 28 *
RASTER_ORDER LEFT_RIGHT/TOP_BOTTOM *
BAND_ORGANIZATION "SINGLE FILE" *
BAND_CONTENT BLACK&WHITE *
BITS_PER_PIXEL 8 *
SAMPLES_AND_LINES 6390 7560 *
HORIZONTAL_DATUM NAD83 *
HORIZONTAL_COORDINATE_SYSTEM UTM *
COORDINATE_ZONE 11 *
HORIZONTAL_UNITS METERS *
HORIZONTAL_RESOLUTION 1.000 *
SECONDARY_HORIZONTAL_DATUM NAD27 *
XY_ORIGIN 488220.000 3887220.000 *
SECONDARY_XY_ORIGIN 488299.661 3887024.789 *
NATION US *
STATE CA *
NW_QUAD_CORNER_XY 488610.914 3886912.380 *
NE_QUAD_CORNER_XY 494305.458 3886907.019 *
SE_QUAD_CORNER_XY 494301.111 3879975.898 *
SW_QUAD_CORNER_XY 488602.220 3879981.255 *
SECONDARY_NW_QUAD_XY 488610.649 3886714.441 *
SECONDARY_NE_QUAD_XY 494305.326 3886709.080 *
SECONDARY_SE_QUAD_XY 494300.979 3879778.146 *
SECONDARY_SW_QUAD_XY 488601.956 3879783.503 *
RMSE_XY 2.463 *
IMAGE_SOURCE "BLACK AND WHITE FILM" *
SOURCE_IMAGE_ID "NAPP 6873 196" *
SOURCE_IMAGE_DATE 1995 10 01 *
SOURCE_DEM_DATE 1988 01 01 *
AGENCY "WESTERN MAPPING CENTER (WMC)" *
PRODUCER "ANALYTICAL SURVEYS INC." *
PRODUCTION_SYSTEM "ORBIT OR_RECTIFY V.5.2" *
STANDARD_VERSION 1996 12 *
METADATA_DATE 1998 04 28 *
DATA_FILE_SIZE 48314790 *
BYTE_COUNT 6390 * * * * * * * * * * * * * * * * * * * * * * * * * * * * * * * * * * * * *
END_USGS_HEADER *
