BEGIN_USGS_DOQ_HEADER *
QUADRANGLE_NAME "WATER VALLEY" *
QUADRANT NW *
NORTH_LATITUDE 35 07 30.000 *
WEST_LONGITUDE -117 15 00.000 *
SOUTH_LATITUDE 35 03 45.000 *
EAST_LONGITUDE -117 11 15.000 *
PRODUCTION_DATE 1998 04 28 *
RASTER_ORDER LEFT_RIGHT/TOP_BOTTOM *
BAND_ORGANIZATION "SINGLE FILE" *
BAND_CONTENT BLACK&WHITE *
BITS_PER_PIXEL 8 *
SAMPLES_AND_LINES 6420 7590 *
HORIZONTAL_DATUM NAD83 *
HORIZONTAL_COORDINATE_SYSTEM UTM *
COORDINATE_ZONE 11 *
HORIZONTAL_UNITS METERS *
HORIZONTAL_RESOLUTION 1.000 *
SECONDARY_HORIZONTAL_DATUM NAD27 *
XY_ORIGIN 476820.000 3887250.000 *
SECONDARY_XY_ORIGIN 476899.815 3887054.779 *
NATION US *
STATE CA *
NW_QUAD_CORNER_XY 477221.809 3886933.825 *
NE_QUAD_CORNER_XY 482916.365 3886921.315 *
SE_QUAD_CORNER_XY 482903.324 3879990.183 *
SW_QUAD_CORNER_XY 477204.421 3880002.682 *
SECONDARY_NW_QUAD_XY 477221.280 3886735.886 *
SECONDARY_NE_QUAD_XY 482915.968 3886723.377 *
SECONDARY_SE_QUAD_XY 482902.928 3879792.431 *
SECONDARY_SW_QUAD_XY 477203.893 3879804.931 *
RMSE_XY 0.792 *
IMAGE_SOURCE "BLACK AND WHITE FILM" *
SOURCE_IMAGE_ID "NAPP 6855 65" *
SOURCE_IMAGE_DATE 1994 05 29 *
SOURCE_DEM_DATE 1988 01 01 *
AGENCY "WESTERN MAPPING CENTER (WMC)" *
PRODUCER "ANALYTICAL SURVEYS INC." *
PRODUCTION_SYSTEM "ORBIT OR_RECTIFY V.5.2" *
STANDARD_VERSION 1996 12 *
METADATA_DATE 1998 04 28 *
DATA_FILE_SIZE 48734220 *
BYTE_COUNT 6420 * * * * * * * * * * * * * * * * * * * * * * * * * * * * * * * * * * * * * *
END_USGS_HEADER *
