BEGIN_USGS_DOQ_HEADER *
QUADRANGLE_NAME "LOCKHART" *
QUADRANT SW *
NORTH_LATITUDE 35 03 45.000 *
WEST_LONGITUDE -117 22 30.000 *
SOUTH_LATITUDE 35 00 00.000 *
EAST_LONGITUDE -117 18 45.000 *
PRODUCTION_DATE 1998 04 28 *
RASTER_ORDER LEFT_RIGHT/TOP_BOTTOM *
BAND_ORGANIZATION "SINGLE FILE" *
BAND_CONTENT BLACK&WHITE *
BITS_PER_PIXEL 8 *
SAMPLES_AND_LINES 6420 7590 *
HORIZONTAL_DATUM NAD83 *
HORIZONTAL_COORDINATE_SYSTEM UTM *
COORDINATE_ZONE 11 *
HORIZONTAL_UNITS METERS *
HORIZONTAL_RESOLUTION 1.000 *
SECONDARY_HORIZONTAL_DATUM NAD27 *
XY_ORIGIN 465390.000 3880350.000 *
SECONDARY_XY_ORIGIN 465469.951 3880154.732 *
NATION US *
STATE CA *
NW_QUAD_CORNER_XY 465806.586 3880038.395 *
NE_QUAD_CORNER_XY 471505.509 3880018.753 *
SE_QUAD_CORNER_XY 471483.809 3873087.669 *
SW_QUAD_CORNER_XY 465780.545 3873107.296 *
SECONDARY_NW_QUAD_XY 465805.794 3879840.644 *
SECONDARY_NE_QUAD_XY 471504.849 3879821.002 *
SECONDARY_SE_QUAD_XY 471483.150 3872890.106 *
SECONDARY_SW_QUAD_XY 465779.754 3872909.733 *
RMSE_XY 1.161 *
IMAGE_SOURCE "BLACK AND WHITE FILM" *
SOURCE_IMAGE_ID "NAPP 6854 67" *
SOURCE_IMAGE_DATE 1994 05 29 *
SOURCE_DEM_DATE 1986 01 01 *
AGENCY "WESTERN MAPPING CENTER (WMC)" *
PRODUCER "ANALYTICAL SURVEYS INC." *
PRODUCTION_SYSTEM "ORBIT OR_RECTIFY V.5.2" *
STANDARD_VERSION 1996 12 *
METADATA_DATE 1998 04 28 *
DATA_FILE_SIZE 48734220 *
BYTE_COUNT 6420 * * * * * * * * * * * * * * * * * * * * * * * * * * * * * * * * * * * * * *
END_USGS_HEADER *
