BEGIN_USGS_DOQ_HEADER *
QUADRANGLE_NAME "THE BUTTES" *
QUADRANT SW *
NORTH_LATITUDE 35 03 45.000 *
WEST_LONGITUDE -117 30 00.000 *
SOUTH_LATITUDE 35 00 00.000 *
EAST_LONGITUDE -117 26 15.000 *
PRODUCTION_DATE 1998 04 28 *
RASTER_ORDER LEFT_RIGHT/TOP_BOTTOM *
BAND_ORGANIZATION "SINGLE FILE" *
BAND_CONTENT BLACK&WHITE *
BITS_PER_PIXEL 8 *
SAMPLES_AND_LINES 6420 7590 *
HORIZONTAL_DATUM NAD83 *
HORIZONTAL_COORDINATE_SYSTEM UTM *
COORDINATE_ZONE 11 *
HORIZONTAL_UNITS METERS *
HORIZONTAL_RESOLUTION 1.000 *
SECONDARY_HORIZONTAL_DATUM NAD27 *
XY_ORIGIN 453990.000 3880410.000 *
SECONDARY_XY_ORIGIN 454070.039 3880214.720 *
NATION US *
STATE CA *
NW_QUAD_CORNER_XY 454408.694 3880088.393 *
NE_QUAD_CORNER_XY 460107.648 3880061.608 *
SE_QUAD_CORNER_XY 460077.267 3873130.491 *
SW_QUAD_CORNER_XY 454373.973 3873157.254 *
SECONDARY_NW_QUAD_XY 454407.638 3879890.644 *
SECONDARY_NE_QUAD_XY 460106.724 3879863.858 *
SECONDARY_SE_QUAD_XY 460076.344 3872932.929 *
SECONDARY_SW_QUAD_XY 454372.918 3872959.693 *
RMSE_XY 0.693 *
IMAGE_SOURCE "BLACK AND WHITE FILM" *
SOURCE_IMAGE_ID "NAPP 6875 219" *
SOURCE_IMAGE_DATE 1995 10 04 *
SOURCE_DEM_DATE 1986 01 01 *
AGENCY "WESTERN MAPPING CENTER (WMC)" *
PRODUCER "ANALYTICAL SURVEYS INC." *
PRODUCTION_SYSTEM "ORBIT OR_RECTIFY V.5.2" *
STANDARD_VERSION 1996 12 *
METADATA_DATE 1998 04 28 *
DATA_FILE_SIZE 48734220 *
BYTE_COUNT 6420 * * * * * * * * * * * * * * * * * * * * * * * * * * * * * * * * * * * * * *
END_USGS_HEADER *
