BEGIN_USGS_DOQ_HEADER *
QUADRANGLE_NAME "SADDLEBACK MOUNTAIN" *
QUADRANT NE *
NORTH_LATITUDE 35 07 30.000 *
WEST_LONGITUDE -117 33 45.000 *
SOUTH_LATITUDE 35 03 45.000 *
EAST_LONGITUDE -117 30 00.000 *
PRODUCTION_DATE 1998 04 28 *
RASTER_ORDER LEFT_RIGHT/TOP_BOTTOM *
BAND_ORGANIZATION "SINGLE FILE" *
BAND_CONTENT BLACK&WHITE *
BITS_PER_PIXEL 8 *
SAMPLES_AND_LINES 6450 7590 *
HORIZONTAL_DATUM NAD83 *
HORIZONTAL_COORDINATE_SYSTEM UTM *
COORDINATE_ZONE 11 *
HORIZONTAL_UNITS METERS *
HORIZONTAL_RESOLUTION 1.000 *
SECONDARY_HORIZONTAL_DATUM NAD27 *
XY_ORIGIN 448320.000 3887370.000 *
SECONDARY_XY_ORIGIN 448400.006 3887174.770 *
NATION US *
STATE CA *
NW_QUAD_CORNER_XY 448748.844 3887049.984 *
NE_QUAD_CORNER_XY 454443.469 3887019.603 *
SE_QUAD_CORNER_XY 454408.694 3880088.393 *
SW_QUAD_CORNER_XY 448709.721 3880118.750 *
SECONDARY_NW_QUAD_XY 448747.655 3886852.048 *
SECONDARY_NE_QUAD_XY 454442.412 3886821.667 *
SECONDARY_SE_QUAD_XY 454407.638 3879890.644 *
SECONDARY_SW_QUAD_XY 448708.533 3879921.001 *
RMSE_XY 0.874 *
IMAGE_SOURCE "BLACK AND WHITE FILM" *
SOURCE_IMAGE_ID "NAPP 6875 240" *
SOURCE_IMAGE_DATE 1995 10 04 *
SOURCE_DEM_DATE 1973 01 01 *
AGENCY "WESTERN MAPPING CENTER (WMC)" *
PRODUCER "ANALYTICAL SURVEYS INC." *
PRODUCTION_SYSTEM "ORBIT OR_RECTIFY V.5.2" *
STANDARD_VERSION 1996 12 *
METADATA_DATE 1998 04 28 *
DATA_FILE_SIZE 48961950 *
BYTE_COUNT 6450 * * * * * * * * * * * * * * * * * * * * * * * * * * * * * * * * * * * * * *
END_USGS_HEADER *
