BEGIN_USGS_DOQ_HEADER *
QUADRANGLE_NAME "SADDLEBACK MOUNTAIN" *
QUADRANT SW *
NORTH_LATITUDE 35 03 45.000 *
WEST_LONGITUDE -117 37 30.000 *
SOUTH_LATITUDE 35 00 00.000 *
EAST_LONGITUDE -117 33 45.000 *
PRODUCTION_DATE 1998 04 28 *
RASTER_ORDER LEFT_RIGHT/TOP_BOTTOM *
BAND_ORGANIZATION "SINGLE FILE" *
BAND_CONTENT BLACK&WHITE *
BITS_PER_PIXEL 8 *
SAMPLES_AND_LINES 6450 7590 *
HORIZONTAL_DATUM NAD83 *
HORIZONTAL_COORDINATE_SYSTEM UTM *
COORDINATE_ZONE 11 *
HORIZONTAL_UNITS METERS *
HORIZONTAL_RESOLUTION 1.000 *
SECONDARY_HORIZONTAL_DATUM NAD27 *
XY_ORIGIN 442560.000 3880470.000 *
SECONDARY_XY_ORIGIN 442640.088 3880274.681 *
NATION US *
STATE CA *
NW_QUAD_CORNER_XY 443010.728 3880152.678 *
NE_QUAD_CORNER_XY 448709.721 3880118.750 *
SE_QUAD_CORNER_XY 448670.660 3873187.587 *
SW_QUAD_CORNER_XY 442967.326 3873221.488 *
SECONDARY_NW_QUAD_XY 443009.408 3879954.930 *
SECONDARY_NE_QUAD_XY 448708.533 3879921.001 *
SECONDARY_SE_QUAD_XY 448669.473 3872990.026 *
SECONDARY_SW_QUAD_XY 442966.007 3873023.928 *
RMSE_XY 0.698 *
IMAGE_SOURCE "BLACK AND WHITE FILM" *
SOURCE_IMAGE_ID "NAPP 6852 30" *
SOURCE_IMAGE_DATE 1994 05 28 *
SOURCE_DEM_DATE 1973 01 01 *
AGENCY "WESTERN MAPPING CENTER (WMC)" *
PRODUCER "ANALYTICAL SURVEYS INC." *
PRODUCTION_SYSTEM "ORBIT OR_RECTIFY V.5.2" *
STANDARD_VERSION 1996 12 *
METADATA_DATE 1998 04 28 *
DATA_FILE_SIZE 48961950 *
BYTE_COUNT 6450 * * * * * * * * * * * * * * * * * * * * * * * * * * * * * * * * * * * * * *
END_USGS_HEADER *
