BEGIN_USGS_DOQ_HEADER *
QUADRANGLE_NAME "BORON" *
QUADRANT NW *
NORTH_LATITUDE 35 07 30.000 *
WEST_LONGITUDE -117 45 00.000 *
SOUTH_LATITUDE 35 03 45.000 *
EAST_LONGITUDE -117 41 15.000 *
PRODUCTION_DATE 1998 04 30 *
RASTER_ORDER LEFT_RIGHT/TOP_BOTTOM *
BAND_ORGANIZATION "SINGLE FILE" *
BAND_CONTENT BLACK&WHITE *
BITS_PER_PIXEL 8 *
SAMPLES_AND_LINES 6450 7620 *
HORIZONTAL_DATUM NAD83 *
HORIZONTAL_COORDINATE_SYSTEM UTM *
COORDINATE_ZONE 11 *
HORIZONTAL_UNITS METERS *
HORIZONTAL_RESOLUTION 1.000 *
SECONDARY_HORIZONTAL_DATUM NAD27 *
XY_ORIGIN 431220.000 3887490.000 *
SECONDARY_XY_ORIGIN 431300.061 3887294.720 *
NATION US *
STATE CA *
NW_QUAD_CORNER_XY 431664.834 3887162.573 *
NE_QUAD_CORNER_XY 437359.529 3887121.469 *
SE_QUAD_CORNER_XY 437311.711 3880190.178 *
SW_QUAD_CORNER_XY 431612.669 3880231.250 *
SECONDARY_NW_QUAD_XY 431663.249 3886964.640 *
SECONDARY_NE_QUAD_XY 437358.076 3886923.535 *
SECONDARY_SE_QUAD_XY 437310.259 3879992.431 *
SECONDARY_SW_QUAD_XY 431611.085 3880033.504 *
RMSE_XY 0.754 *
IMAGE_SOURCE "BLACK AND WHITE FILM" *
SOURCE_IMAGE_ID "NAPP 6850 16" *
SOURCE_IMAGE_DATE 1994 05 28 *
SOURCE_DEM_DATE 1973 01 01 *
AGENCY "WESTERN MAPPING CENTER (WMC)" *
PRODUCER "ANALYTICAL SURVEYS INC." *
PRODUCTION_SYSTEM "ORBIT OR_RECTIFY V.5.2" *
STANDARD_VERSION 1996 12 *
METADATA_DATE 1998 05 03 *
DATA_FILE_SIZE 49155450 *
BYTE_COUNT 6450 * * * * * * * * * * * * * * * * * * * * * * * * * * * * * * * * * * * * * *
END_USGS_HEADER *
