BEGIN_USGS_DOQ_HEADER *
QUADRANGLE_NAME "NORTH EDWARDS" *
QUADRANT NE *
NORTH_LATITUDE 35 07 30.000 *
WEST_LONGITUDE -117 48 45.000 *
SOUTH_LATITUDE 35 03 45.000 *
EAST_LONGITUDE -117 45 00.000 *
PRODUCTION_DATE 1998 04 30 *
RASTER_ORDER LEFT_RIGHT/TOP_BOTTOM *
BAND_ORGANIZATION "SINGLE FILE" *
BAND_CONTENT BLACK&WHITE *
BITS_PER_PIXEL 8 *
SAMPLES_AND_LINES 6450 7620 *
HORIZONTAL_DATUM NAD83 *
HORIZONTAL_COORDINATE_SYSTEM UTM *
COORDINATE_ZONE 11 *
HORIZONTAL_UNITS METERS *
HORIZONTAL_RESOLUTION 1.000 *
SECONDARY_HORIZONTAL_DATUM NAD27 *
XY_ORIGIN 425520.000 3887520.000 *
SECONDARY_XY_ORIGIN 425600.124 3887324.754 *
NATION US *
STATE CA *
NW_QUAD_CORNER_XY 425970.112 3887207.253 *
NE_QUAD_CORNER_XY 431664.834 3887162.573 *
SE_QUAD_CORNER_XY 431612.669 3880231.250 *
SW_QUAD_CORNER_XY 425913.599 3880275.895 *
SECONDARY_NW_QUAD_XY 425968.394 3887009.321 *
SECONDARY_NE_QUAD_XY 431663.249 3886964.640 *
SECONDARY_SE_QUAD_XY 431611.085 3880033.504 *
SECONDARY_SW_QUAD_XY 425911.882 3880078.150 *
RMSE_XY 0.842 *
IMAGE_SOURCE "BLACK AND WHITE FILM" *
SOURCE_IMAGE_ID "NAPP 6850 75" *
SOURCE_IMAGE_DATE 1994 05 28 *
SOURCE_DEM_DATE 1973 01 01 *
AGENCY "WESTERN MAPPING CENTER (WMC)" *
PRODUCER "ANALYTICAL SURVEYS INC." *
PRODUCTION_SYSTEM "ORBIT OR_RECTIFY V.5.2" *
STANDARD_VERSION 1996 12 *
METADATA_DATE 1998 05 03 *
DATA_FILE_SIZE 49155450 *
BYTE_COUNT 6450 * * * * * * * * * * * * * * * * * * * * * * * * * * * * * * * * * * * * * *
END_USGS_HEADER *
