BEGIN_USGS_DOQ_HEADER *
QUADRANGLE_NAME "NORTH EDWARDS" *
QUADRANT SE *
NORTH_LATITUDE 35 03 45.000 *
WEST_LONGITUDE -117 48 45.000 *
SOUTH_LATITUDE 35 00 00.000 *
EAST_LONGITUDE -117 45 00.000 *
PRODUCTION_DATE 1998 04 30 *
RASTER_ORDER LEFT_RIGHT/TOP_BOTTOM *
BAND_ORGANIZATION "SINGLE FILE" *
BAND_CONTENT BLACK&WHITE *
BITS_PER_PIXEL 8 *
SAMPLES_AND_LINES 6480 7620 *
HORIZONTAL_DATUM NAD83 *
HORIZONTAL_COORDINATE_SYSTEM UTM *
COORDINATE_ZONE 11 *
HORIZONTAL_UNITS METERS *
HORIZONTAL_RESOLUTION 1.000 *
SECONDARY_HORIZONTAL_DATUM NAD27 *
XY_ORIGIN 425460.000 3880590.000 *
SECONDARY_XY_ORIGIN 425540.193 3880394.671 *
NATION US *
STATE CA *
NW_QUAD_CORNER_XY 425913.599 3880275.895 *
NE_QUAD_CORNER_XY 431612.669 3880231.250 *
SE_QUAD_CORNER_XY 431560.585 3873299.998 *
SW_QUAD_CORNER_XY 425857.173 3873344.607 *
SECONDARY_NW_QUAD_XY 425911.882 3880078.150 *
SECONDARY_NE_QUAD_XY 431611.085 3880033.504 *
SECONDARY_SE_QUAD_XY 431559.002 3873102.440 *
SECONDARY_SW_QUAD_XY 425855.459 3873147.050 *
RMSE_XY 1.265 *
IMAGE_SOURCE "BLACK AND WHITE FILM" *
SOURCE_IMAGE_ID "NAPP 6850 77" *
SOURCE_IMAGE_DATE 1994 05 28 *
SOURCE_DEM_DATE 1973 01 01 *
AGENCY "WESTERN MAPPING CENTER (WMC)" *
PRODUCER "ANALYTICAL SURVEYS INC." *
PRODUCTION_SYSTEM "ORBIT OR_RECTIFY V.5.2" *
STANDARD_VERSION 1996 12 *
METADATA_DATE 1998 05 03 *
DATA_FILE_SIZE 49384080 *
BYTE_COUNT 6480 * * * * * * * * * * * * * * * * * * * * * * * * * * * * * * * * * * * * * *
END_USGS_HEADER *
