BEGIN_USGS_DOQ_HEADER *
QUADRANGLE_NAME "NORTH EDWARDS" *
QUADRANT SW *
NORTH_LATITUDE 35 03 45.000 *
WEST_LONGITUDE -117 52 30.000 *
SOUTH_LATITUDE 35 00 00.000 *
EAST_LONGITUDE -117 48 45.000 *
PRODUCTION_DATE 1998 04 30 *
RASTER_ORDER LEFT_RIGHT/TOP_BOTTOM *
BAND_ORGANIZATION "SINGLE FILE" *
BAND_CONTENT BLACK&WHITE *
BITS_PER_PIXEL 8 *
SAMPLES_AND_LINES 6480 7620 *
HORIZONTAL_DATUM NAD83 *
HORIZONTAL_COORDINATE_SYSTEM UTM *
COORDINATE_ZONE 11 *
HORIZONTAL_UNITS METERS *
HORIZONTAL_RESOLUTION 1.000 *
SECONDARY_HORIZONTAL_DATUM NAD27 *
XY_ORIGIN 419760.000 3880650.000 *
SECONDARY_XY_ORIGIN 419840.252 3880454.698 *
NATION US *
STATE CA *
NW_QUAD_CORNER_XY 420214.498 3880324.111 *
NE_QUAD_CORNER_XY 425913.599 3880275.895 *
SE_QUAD_CORNER_XY 425857.173 3873344.607 *
SW_QUAD_CORNER_XY 420153.732 3873392.785 *
SECONDARY_NW_QUAD_XY 420212.650 3880126.367 *
SECONDARY_NE_QUAD_XY 425911.882 3880078.150 *
SECONDARY_SE_QUAD_XY 425855.459 3873147.050 *
SECONDARY_SW_QUAD_XY 420151.885 3873195.229 *
RMSE_XY 1.221 *
IMAGE_SOURCE "BLACK AND WHITE FILM" *
SOURCE_IMAGE_ID "NAPP 6850 104" *
SOURCE_IMAGE_DATE 1994 05 28 *
SOURCE_DEM_DATE 1973 01 01 *
AGENCY "WESTERN MAPPING CENTER (WMC)" *
PRODUCER "ANALYTICAL SURVEYS INC." *
PRODUCTION_SYSTEM "ORBIT OR_RECTIFY V.5.2" *
STANDARD_VERSION 1996 12 *
METADATA_DATE 1998 05 03 *
DATA_FILE_SIZE 49384080 *
BYTE_COUNT 6480 * * * * * * * * * * * * * * * * * * * * * * * * * * * * * * * * * * * * * *
END_USGS_HEADER *
