BEGIN_USGS_DOQ_HEADER *
QUADRANGLE_NAME "CALIFORNIA CITY SOUTH" *
QUADRANT SE *
NORTH_LATITUDE 35 03 45.000 *
WEST_LONGITUDE -117 56 15.000 *
SOUTH_LATITUDE 35 00 00.000 *
EAST_LONGITUDE -117 52 30.000 *
PRODUCTION_DATE 1998 04 30 *
RASTER_ORDER LEFT_RIGHT/TOP_BOTTOM *
BAND_ORGANIZATION "SINGLE FILE" *
BAND_CONTENT BLACK&WHITE *
BITS_PER_PIXEL 8 *
SAMPLES_AND_LINES 6480 7590 *
HORIZONTAL_DATUM NAD83 *
HORIZONTAL_COORDINATE_SYSTEM UTM *
COORDINATE_ZONE 11 *
HORIZONTAL_UNITS METERS *
HORIZONTAL_RESOLUTION 1.000 *
SECONDARY_HORIZONTAL_DATUM NAD27 *
XY_ORIGIN 414060.000 3880680.000 *
SECONDARY_XY_ORIGIN 414140.311 3880484.724 *
NATION US *
STATE CA *
NW_QUAD_CORNER_XY 414515.365 3880375.900 *
NE_QUAD_CORNER_XY 420214.498 3880324.111 *
SE_QUAD_CORNER_XY 420153.732 3873392.785 *
SW_QUAD_CORNER_XY 414450.257 3873444.533 *
SECONDARY_NW_QUAD_XY 414513.385 3880178.158 *
SECONDARY_NE_QUAD_XY 420212.650 3880126.367 *
SECONDARY_SE_QUAD_XY 420151.885 3873195.229 *
SECONDARY_SW_QUAD_XY 414448.278 3873246.978 *
RMSE_XY 1.144 *
IMAGE_SOURCE "BLACK AND WHITE FILM" *
SOURCE_IMAGE_ID "NAPP 6850 151" *
SOURCE_IMAGE_DATE 1994 05 28 *
SOURCE_DEM_DATE 1973 01 01 *
AGENCY "WESTERN MAPPING CENTER (WMC)" *
PRODUCER "ANALYTICAL SURVEYS INC." *
PRODUCTION_SYSTEM "ORBIT OR_RECTIFY V.5.2" *
STANDARD_VERSION 1996 12 *
METADATA_DATE 1998 04 30 *
DATA_FILE_SIZE 49189680 *
BYTE_COUNT 6480 * * * * * * * * * * * * * * * * * * * * * * * * * * * * * * * * * * * * * *
END_USGS_HEADER *
