BEGIN_USGS_DOQ_HEADER *
QUADRANGLE_NAME "SUPERIOR LAKE" *
QUADRANT SE *
NORTH_LATITUDE 35 11 15.000 *
WEST_LONGITUDE -117 03 45.000 *
SOUTH_LATITUDE 35 07 30.000 *
EAST_LONGITUDE -117 00 00.000 *
PRODUCTION_DATE 1998 04 25 *
RASTER_ORDER LEFT_RIGHT/TOP_BOTTOM *
BAND_ORGANIZATION "SINGLE FILE" *
BAND_CONTENT BLACK&WHITE *
BITS_PER_PIXEL 8 *
SAMPLES_AND_LINES 6390 7560 *
HORIZONTAL_DATUM NAD83 *
HORIZONTAL_COORDINATE_SYSTEM UTM *
COORDINATE_ZONE 11 *
HORIZONTAL_UNITS METERS *
HORIZONTAL_RESOLUTION 1.000 *
SECONDARY_HORIZONTAL_DATUM NAD27 *
XY_ORIGIN 493920.000 3894150.000 *
SECONDARY_XY_ORIGIN 493999.507 3893954.804 *
NATION US *
STATE CA *
NW_QUAD_CORNER_XY 494309.811 3893838.212 *
NE_QUAD_CORNER_XY 500000.000 3893836.424 *
SE_QUAD_CORNER_XY 500000.000 3886905.232 *
SW_QUAD_CORNER_XY 494305.458 3886907.019 *
SECONDARY_NW_QUAD_XY 494309.679 3893640.087 *
SECONDARY_NE_QUAD_XY 500000.000 3893638.298 *
SECONDARY_SE_QUAD_XY 500000.000 3886707.293 *
SECONDARY_SW_QUAD_XY 494305.326 3886709.080 *
RMSE_XY 1.169 *
IMAGE_SOURCE "BLACK AND WHITE FILM" *
SOURCE_IMAGE_ID "NAPP 6880 8" *
SOURCE_IMAGE_DATE 1995 10 07 *
SOURCE_DEM_DATE 1988 01 01 *
AGENCY "WESTERN MAPPING CENTER (WMC)" *
PRODUCER "ANALYTICAL SURVEYS INC." *
PRODUCTION_SYSTEM "ORBIT OR_RECTIFY V.5.2" *
STANDARD_VERSION 1996 12 *
METADATA_DATE 1998 04 25 *
DATA_FILE_SIZE 48314790 *
BYTE_COUNT 6390 * * * * * * * * * * * * * * * * * * * * * * * * * * * * * * * * * * * * *
END_USGS_HEADER *
