BEGIN_USGS_DOQ_HEADER *
QUADRANGLE_NAME "OPAL MOUNTAIN" *
QUADRANT NE *
NORTH_LATITUDE 35 15 00.000 *
WEST_LONGITUDE -117 11 15.000 *
SOUTH_LATITUDE 35 11 15.000 *
EAST_LONGITUDE -117 07 30.000 *
PRODUCTION_DATE 1998 04 25 *
RASTER_ORDER LEFT_RIGHT/TOP_BOTTOM *
BAND_ORGANIZATION "SINGLE FILE" *
BAND_CONTENT BLACK&WHITE *
BITS_PER_PIXEL 8 *
SAMPLES_AND_LINES 6420 7590 *
HORIZONTAL_DATUM NAD83 *
HORIZONTAL_COORDINATE_SYSTEM UTM *
COORDINATE_ZONE 11 *
HORIZONTAL_UNITS METERS *
HORIZONTAL_RESOLUTION 1.000 *
SECONDARY_HORIZONTAL_DATUM NAD27 *
XY_ORIGIN 482520.000 3901110.000 *
SECONDARY_XY_ORIGIN 482599.623 3900914.842 *
NATION US *
STATE CA *
NW_QUAD_CORNER_XY 482942.506 3900783.795 *
NE_QUAD_CORNER_XY 488628.341 3900774.846 *
SE_QUAD_CORNER_XY 488619.621 3893843.577 *
SW_QUAD_CORNER_XY 482929.425 3893852.519 *
SECONDARY_NW_QUAD_XY 482942.109 3900585.484 *
SECONDARY_NE_QUAD_XY 488628.077 3900576.535 *
SECONDARY_SE_QUAD_XY 488619.356 3893645.452 *
SECONDARY_SW_QUAD_XY 482929.029 3893654.394 *
RMSE_XY 0.972 *
IMAGE_SOURCE "BLACK AND WHITE FILM" *
SOURCE_IMAGE_ID "NAPP 6855 177" *
SOURCE_IMAGE_DATE 1994 05 29 *
SOURCE_DEM_DATE 1988 01 01 *
AGENCY "WESTERN MAPPING CENTER (WMC)" *
PRODUCER "ANALYTICAL SURVEYS INC." *
PRODUCTION_SYSTEM "ORBIT OR_RECTIFY V.5.2" *
STANDARD_VERSION 1996 12 *
METADATA_DATE 1998 04 25 *
DATA_FILE_SIZE 48734220 *
BYTE_COUNT 6420 * * * * * * * * * * * * * * * * * * * * * * * * * * * * * * * * * * * * * *
END_USGS_HEADER *
