BEGIN_USGS_DOQ_HEADER *
QUADRANGLE_NAME "OPAL MOUNTAIN" *
QUADRANT NW *
NORTH_LATITUDE 35 15 00.000 *
WEST_LONGITUDE -117 15 00.000 *
SOUTH_LATITUDE 35 11 15.000 *
EAST_LONGITUDE -117 11 15.000 *
PRODUCTION_DATE 1998 04 25 *
RASTER_ORDER LEFT_RIGHT/TOP_BOTTOM *
BAND_ORGANIZATION "SINGLE FILE" *
BAND_CONTENT BLACK&WHITE *
BITS_PER_PIXEL 8 *
SAMPLES_AND_LINES 6420 7590 *
HORIZONTAL_DATUM NAD83 *
HORIZONTAL_COORDINATE_SYSTEM UTM *
COORDINATE_ZONE 11 *
HORIZONTAL_UNITS METERS *
HORIZONTAL_RESOLUTION 1.000 *
SECONDARY_HORIZONTAL_DATUM NAD27 *
XY_ORIGIN 476850.000 3901110.000 *
SECONDARY_XY_ORIGIN 476929.720 3900914.855 *
NATION US *
STATE CA *
NW_QUAD_CORNER_XY 477256.664 3900796.324 *
NE_QUAD_CORNER_XY 482942.506 3900783.795 *
SE_QUAD_CORNER_XY 482929.425 3893852.519 *
SW_QUAD_CORNER_XY 477239.223 3893865.038 *
SECONDARY_NW_QUAD_XY 477256.135 3900598.013 *
SECONDARY_NE_QUAD_XY 482942.109 3900585.484 *
SECONDARY_SE_QUAD_XY 482929.029 3893654.394 *
SECONDARY_SW_QUAD_XY 477238.694 3893666.914 *
RMSE_XY 0.886 *
IMAGE_SOURCE "BLACK AND WHITE FILM" *
SOURCE_IMAGE_ID "NAPP 6857 111" *
SOURCE_IMAGE_DATE 1994 05 29 *
SOURCE_DEM_DATE 1988 01 01 *
AGENCY "WESTERN MAPPING CENTER (WMC)" *
PRODUCER "ANALYTICAL SURVEYS INC." *
PRODUCTION_SYSTEM "ORBIT OR_RECTIFY V.5.2" *
STANDARD_VERSION 1996 12 *
METADATA_DATE 1998 04 25 *
DATA_FILE_SIZE 48734220 *
BYTE_COUNT 6420 * * * * * * * * * * * * * * * * * * * * * * * * * * * * * * * * * * * * * *
END_USGS_HEADER *
