BEGIN_USGS_DOQ_HEADER *
QUADRANGLE_NAME "OPAL MOUNTAIN" *
QUADRANT SE *
NORTH_LATITUDE 35 11 15.000 *
WEST_LONGITUDE -117 11 15.000 *
SOUTH_LATITUDE 35 07 30.000 *
EAST_LONGITUDE -117 07 30.000 *
PRODUCTION_DATE 1998 04 25 *
RASTER_ORDER LEFT_RIGHT/TOP_BOTTOM *
BAND_ORGANIZATION "SINGLE FILE" *
BAND_CONTENT BLACK&WHITE *
BITS_PER_PIXEL 8 *
SAMPLES_AND_LINES 6420 7590 *
HORIZONTAL_DATUM NAD83 *
HORIZONTAL_COORDINATE_SYSTEM UTM *
COORDINATE_ZONE 11 *
HORIZONTAL_UNITS METERS *
HORIZONTAL_RESOLUTION 1.000 *
SECONDARY_HORIZONTAL_DATUM NAD27 *
XY_ORIGIN 482520.000 3894180.000 *
SECONDARY_XY_ORIGIN 482599.680 3893984.813 *
NATION US *
STATE CA *
NW_QUAD_CORNER_XY 482929.425 3893852.519 *
NE_QUAD_CORNER_XY 488619.621 3893843.577 *
SE_QUAD_CORNER_XY 488610.914 3886912.380 *
SW_QUAD_CORNER_XY 482916.365 3886921.315 *
SECONDARY_NW_QUAD_XY 482929.029 3893654.394 *
SECONDARY_NE_QUAD_XY 488619.356 3893645.452 *
SECONDARY_SE_QUAD_XY 488610.649 3886714.441 *
SECONDARY_SW_QUAD_XY 482915.968 3886723.377 *
RMSE_XY 0.956 *
IMAGE_SOURCE "BLACK AND WHITE FILM" *
SOURCE_IMAGE_ID "NAPP 6855 175" *
SOURCE_IMAGE_DATE 1994 05 29 *
SOURCE_DEM_DATE 1988 01 01 *
AGENCY "WESTERN MAPPING CENTER (WMC)" *
PRODUCER "ANALYTICAL SURVEYS INC." *
PRODUCTION_SYSTEM "ORBIT OR_RECTIFY V.5.2" *
STANDARD_VERSION 1996 12 *
METADATA_DATE 1998 04 25 *
DATA_FILE_SIZE 48734220 *
BYTE_COUNT 6420 * * * * * * * * * * * * * * * * * * * * * * * * * * * * * * * * * * * * * *
END_USGS_HEADER *
