BEGIN_USGS_DOQ_HEADER *
QUADRANGLE_NAME "BIRD SPRING" *
QUADRANT NW *
NORTH_LATITUDE 35 15 00.000 *
WEST_LONGITUDE -117 22 30.000 *
SOUTH_LATITUDE 35 11 15.000 *
EAST_LONGITUDE -117 18 45.000 *
PRODUCTION_DATE 1998 04 28 *
RASTER_ORDER LEFT_RIGHT/TOP_BOTTOM *
BAND_ORGANIZATION "SINGLE FILE" *
BAND_CONTENT BLACK&WHITE *
BITS_PER_PIXEL 8 *
SAMPLES_AND_LINES 6450 7590 *
HORIZONTAL_DATUM NAD83 *
HORIZONTAL_COORDINATE_SYSTEM UTM *
COORDINATE_ZONE 11 *
HORIZONTAL_UNITS METERS *
HORIZONTAL_RESOLUTION 1.000 *
SECONDARY_HORIZONTAL_DATUM NAD27 *
XY_ORIGIN 465450.000 3901140.000 *
SECONDARY_XY_ORIGIN 465529.803 3900944.889 *
NATION US *
STATE CA *
NW_QUAD_CORNER_XY 465884.951 3900832.120 *
NE_QUAD_CORNER_XY 471570.813 3900812.432 *
SE_QUAD_CORNER_XY 471549.012 3893881.134 *
SW_QUAD_CORNER_XY 465858.789 3893900.807 *
SECONDARY_NW_QUAD_XY 465884.157 3900633.811 *
SECONDARY_NE_QUAD_XY 471570.152 3900614.122 *
SECONDARY_SE_QUAD_XY 471548.350 3893683.010 *
SECONDARY_SW_QUAD_XY 465857.995 3893702.683 *
RMSE_XY 1.235 *
IMAGE_SOURCE "BLACK AND WHITE FILM" *
SOURCE_IMAGE_ID "NAPP 6854 73" *
SOURCE_IMAGE_DATE 1994 05 29 *
SOURCE_DEM_DATE 1988 01 01 *
AGENCY "WESTERN MAPPING CENTER (WMC)" *
PRODUCER "ANALYTICAL SURVEYS INC." *
PRODUCTION_SYSTEM "ORBIT OR_RECTIFY V.5.2" *
STANDARD_VERSION 1996 12 *
METADATA_DATE 1998 04 28 *
DATA_FILE_SIZE 48961950 *
BYTE_COUNT 6450 * * * * * * * * * * * * * * * * * * * * * * * * * * * * * * * * * * * * * *
END_USGS_HEADER *
