BEGIN_USGS_DOQ_HEADER *
QUADRANGLE_NAME "BIRD SPRING" *
QUADRANT SW *
NORTH_LATITUDE 35 11 15.000 *
WEST_LONGITUDE -117 22 30.000 *
SOUTH_LATITUDE 35 07 30.000 *
EAST_LONGITUDE -117 18 45.000 *
PRODUCTION_DATE 1998 04 28 *
RASTER_ORDER LEFT_RIGHT/TOP_BOTTOM *
BAND_ORGANIZATION "SINGLE FILE" *
BAND_CONTENT BLACK&WHITE *
BITS_PER_PIXEL 8 *
SAMPLES_AND_LINES 6420 7590 *
HORIZONTAL_DATUM NAD83 *
HORIZONTAL_COORDINATE_SYSTEM UTM *
COORDINATE_ZONE 11 *
HORIZONTAL_UNITS METERS *
HORIZONTAL_RESOLUTION 1.000 *
SECONDARY_HORIZONTAL_DATUM NAD27 *
XY_ORIGIN 465450.000 3894210.000 *
SECONDARY_XY_ORIGIN 465529.852 3894014.835 *
NATION US *
STATE CA *
NW_QUAD_CORNER_XY 465858.789 3893900.807 *
NE_QUAD_CORNER_XY 471549.012 3893881.134 *
SE_QUAD_CORNER_XY 471527.243 3886949.908 *
SW_QUAD_CORNER_XY 465832.667 3886969.565 *
SECONDARY_NW_QUAD_XY 465857.995 3893702.683 *
SECONDARY_NE_QUAD_XY 471548.350 3893683.010 *
SECONDARY_SE_QUAD_XY 471526.583 3886751.970 *
SECONDARY_SW_QUAD_XY 465831.874 3886771.628 *
RMSE_XY 1.211 *
IMAGE_SOURCE "BLACK AND WHITE FILM" *
SOURCE_IMAGE_ID "NAPP 6854 71" *
SOURCE_IMAGE_DATE 1994 05 29 *
SOURCE_DEM_DATE 1988 01 01 *
AGENCY "WESTERN MAPPING CENTER (WMC)" *
PRODUCER "ANALYTICAL SURVEYS INC." *
PRODUCTION_SYSTEM "ORBIT OR_RECTIFY V.5.2" *
STANDARD_VERSION 1996 12 *
METADATA_DATE 1998 04 28 *
DATA_FILE_SIZE 48734220 *
BYTE_COUNT 6420 * * * * * * * * * * * * * * * * * * * * * * * * * * * * * * * * * * * * * *
END_USGS_HEADER *
