BEGIN_USGS_DOQ_HEADER *
QUADRANGLE_NAME "FREMONT PEAK" *
QUADRANT NW *
NORTH_LATITUDE 35 15 00.000 *
WEST_LONGITUDE -117 30 00.000 *
SOUTH_LATITUDE 35 11 15.000 *
EAST_LONGITUDE -117 26 15.000 *
PRODUCTION_DATE 1998 04 28 *
RASTER_ORDER LEFT_RIGHT/TOP_BOTTOM *
BAND_ORGANIZATION "SINGLE FILE" *
BAND_CONTENT BLACK&WHITE *
BITS_PER_PIXEL 8 *
SAMPLES_AND_LINES 6420 7590 *
HORIZONTAL_DATUM NAD83 *
HORIZONTAL_COORDINATE_SYSTEM UTM *
COORDINATE_ZONE 11 *
HORIZONTAL_UNITS METERS *
HORIZONTAL_RESOLUTION 1.000 *
SECONDARY_HORIZONTAL_DATUM NAD27 *
XY_ORIGIN 454080.000 3901200.000 *
SECONDARY_XY_ORIGIN 454159.887 3901004.921 *
NATION US *
STATE CA *
NW_QUAD_CORNER_XY 454513.183 3900882.236 *
NE_QUAD_CORNER_XY 460199.075 3900855.388 *
SE_QUAD_CORNER_XY 460168.552 3893924.057 *
SW_QUAD_CORNER_XY 454478.299 3893950.884 *
SECONDARY_NW_QUAD_XY 454512.124 3900683.928 *
SECONDARY_NE_QUAD_XY 460198.149 3900657.080 *
SECONDARY_SE_QUAD_XY 460167.626 3893725.934 *
SECONDARY_SW_QUAD_XY 454477.241 3893752.762 *
RMSE_XY 0.947 *
IMAGE_SOURCE "BLACK AND WHITE FILM" *
SOURCE_IMAGE_ID "NAPP 6875 225" *
SOURCE_IMAGE_DATE 1995 10 04 *
SOURCE_DEM_DATE 1987 01 01 *
AGENCY "WESTERN MAPPING CENTER (WMC)" *
PRODUCER "ANALYTICAL SURVEYS INC." *
PRODUCTION_SYSTEM "ORBIT OR_RECTIFY V.5.2" *
STANDARD_VERSION 1996 12 *
METADATA_DATE 1998 04 28 *
DATA_FILE_SIZE 48734220 *
BYTE_COUNT 6420 * * * * * * * * * * * * * * * * * * * * * * * * * * * * * * * * * * * * * *
END_USGS_HEADER *
