BEGIN_USGS_DOQ_HEADER *
QUADRANGLE_NAME "FREMONT PEAK" *
QUADRANT SE *
NORTH_LATITUDE 35 11 15.000 *
WEST_LONGITUDE -117 26 15.000 *
SOUTH_LATITUDE 35 07 30.000 *
EAST_LONGITUDE -117 22 30.000 *
PRODUCTION_DATE 1998 04 28 *
RASTER_ORDER LEFT_RIGHT/TOP_BOTTOM *
BAND_ORGANIZATION "SINGLE FILE" *
BAND_CONTENT BLACK&WHITE *
BITS_PER_PIXEL 8 *
SAMPLES_AND_LINES 6420 7590 *
HORIZONTAL_DATUM NAD83 *
HORIZONTAL_COORDINATE_SYSTEM UTM *
COORDINATE_ZONE 11 *
HORIZONTAL_UNITS METERS *
HORIZONTAL_RESOLUTION 1.000 *
SECONDARY_HORIZONTAL_DATUM NAD27 *
XY_ORIGIN 459750.000 3894240.000 *
SECONDARY_XY_ORIGIN 459829.895 3894044.844 *
NATION US *
STATE CA *
NW_QUAD_CORNER_XY 460168.552 3893924.057 *
NE_QUAD_CORNER_XY 465858.789 3893900.807 *
SE_QUAD_CORNER_XY 465832.667 3886969.565 *
SW_QUAD_CORNER_XY 460138.076 3886992.797 *
SECONDARY_NW_QUAD_XY 460167.626 3893725.934 *
SECONDARY_NE_QUAD_XY 465857.995 3893702.683 *
SECONDARY_SE_QUAD_XY 465831.874 3886771.628 *
SECONDARY_SW_QUAD_XY 460137.151 3886794.860 *
RMSE_XY 1.223 *
IMAGE_SOURCE "BLACK AND WHITE FILM" *
SOURCE_IMAGE_ID "NAPP 6854 16" *
SOURCE_IMAGE_DATE 1994 05 28 *
SOURCE_DEM_DATE 1987 01 01 *
AGENCY "WESTERN MAPPING CENTER (WMC)" *
PRODUCER "ANALYTICAL SURVEYS INC." *
PRODUCTION_SYSTEM "ORBIT OR_RECTIFY V.5.2" *
STANDARD_VERSION 1996 12 *
METADATA_DATE 1998 04 28 *
DATA_FILE_SIZE 48734220 *
BYTE_COUNT 6420 * * * * * * * * * * * * * * * * * * * * * * * * * * * * * * * * * * * * * *
END_USGS_HEADER *
