BEGIN_USGS_DOQ_HEADER *
QUADRANGLE_NAME "BORON NE" *
QUADRANT NE *
NORTH_LATITUDE 35 15 00.000 *
WEST_LONGITUDE -117 33 45.000 *
SOUTH_LATITUDE 35 11 15.000 *
EAST_LONGITUDE -117 30 00.000 *
PRODUCTION_DATE 1998 04 28 *
RASTER_ORDER LEFT_RIGHT/TOP_BOTTOM *
BAND_ORGANIZATION "SINGLE FILE" *
BAND_CONTENT BLACK&WHITE *
BITS_PER_PIXEL 8 *
SAMPLES_AND_LINES 6450 7590 *
HORIZONTAL_DATUM NAD83 *
HORIZONTAL_COORDINATE_SYSTEM UTM *
COORDINATE_ZONE 11 *
HORIZONTAL_UNITS METERS *
HORIZONTAL_RESOLUTION 1.000 *
SECONDARY_HORIZONTAL_DATUM NAD27 *
XY_ORIGIN 448380.000 3901230.000 *
SECONDARY_XY_ORIGIN 448459.892 3901034.911 *
NATION US *
STATE CA *
NW_QUAD_CORNER_XY 448827.273 3900912.664 *
NE_QUAD_CORNER_XY 454513.183 3900882.236 *
SE_QUAD_CORNER_XY 454478.299 3893950.884 *
SW_QUAD_CORNER_XY 448788.028 3893981.289 *
SECONDARY_NW_QUAD_XY 448826.082 3900714.357 *
SECONDARY_NE_QUAD_XY 454512.124 3900683.928 *
SECONDARY_SE_QUAD_XY 454477.241 3893752.762 *
SECONDARY_SW_QUAD_XY 448786.838 3893783.167 *
RMSE_XY 1.078 *
IMAGE_SOURCE "BLACK AND WHITE FILM" *
SOURCE_IMAGE_ID "NAPP 6875 236" *
SOURCE_IMAGE_DATE 1995 10 04 *
SOURCE_DEM_DATE 1973 01 01 *
AGENCY "WESTERN MAPPING CENTER (WMC)" *
PRODUCER "ANALYTICAL SURVEYS INC." *
PRODUCTION_SYSTEM "ORBIT OR_RECTIFY V.5.2" *
STANDARD_VERSION 1996 12 *
METADATA_DATE 1998 04 28 *
DATA_FILE_SIZE 48961950 *
BYTE_COUNT 6450 * * * * * * * * * * * * * * * * * * * * * * * * * * * * * * * * * * * * * *
END_USGS_HEADER *
