BEGIN_USGS_DOQ_HEADER *
QUADRANGLE_NAME "BORON NE" *
QUADRANT SW *
NORTH_LATITUDE 35 11 15.000 *
WEST_LONGITUDE -117 37 30.000 *
SOUTH_LATITUDE 35 07 30.000 *
EAST_LONGITUDE -117 33 45.000 *
PRODUCTION_DATE 1998 04 28 *
RASTER_ORDER LEFT_RIGHT/TOP_BOTTOM *
BAND_ORGANIZATION "SINGLE FILE" *
BAND_CONTENT BLACK&WHITE *
BITS_PER_PIXEL 8 *
SAMPLES_AND_LINES 6450 7590 *
HORIZONTAL_DATUM NAD83 *
HORIZONTAL_COORDINATE_SYSTEM UTM *
COORDINATE_ZONE 11 *
HORIZONTAL_UNITS METERS *
HORIZONTAL_RESOLUTION 1.000 *
SECONDARY_HORIZONTAL_DATUM NAD27 *
XY_ORIGIN 442650.000 3894330.000 *
SECONDARY_XY_ORIGIN 442729.961 3894134.827 *
NATION US *
STATE CA *
NW_QUAD_CORNER_XY 443097.736 3894015.270 *
NE_QUAD_CORNER_XY 448788.028 3893981.289 *
SE_QUAD_CORNER_XY 448748.844 3887049.984 *
SW_QUAD_CORNER_XY 443054.198 3887083.939 *
SECONDARY_NW_QUAD_XY 443096.414 3893817.149 *
SECONDARY_NE_QUAD_XY 448786.838 3893783.167 *
SECONDARY_SE_QUAD_XY 448747.655 3886852.048 *
SECONDARY_SW_QUAD_XY 443052.877 3886886.004 *
RMSE_XY 1.085 *
IMAGE_SOURCE "BLACK AND WHITE FILM" *
SOURCE_IMAGE_ID "NAPP 6852 34" *
SOURCE_IMAGE_DATE 1994 05 28 *
SOURCE_DEM_DATE 1973 01 01 *
AGENCY "WESTERN MAPPING CENTER (WMC)" *
PRODUCER "ANALYTICAL SURVEYS INC." *
PRODUCTION_SYSTEM "ORBIT OR_RECTIFY V.5.2" *
STANDARD_VERSION 1996 12 *
METADATA_DATE 1998 04 28 *
DATA_FILE_SIZE 48961950 *
BYTE_COUNT 6450 * * * * * * * * * * * * * * * * * * * * * * * * * * * * * * * * * * * * * *
END_USGS_HEADER *
