BEGIN_USGS_DOQ_HEADER *
QUADRANGLE_NAME "BORON NW" *
QUADRANT NW *
NORTH_LATITUDE 35 15 00.000 *
WEST_LONGITUDE -117 45 00.000 *
SOUTH_LATITUDE 35 11 15.000 *
EAST_LONGITUDE -117 41 15.000 *
PRODUCTION_DATE 1998 04 30 *
RASTER_ORDER LEFT_RIGHT/TOP_BOTTOM *
BAND_ORGANIZATION "SINGLE FILE" *
BAND_CONTENT BLACK&WHITE *
BITS_PER_PIXEL 8 *
SAMPLES_AND_LINES 6450 7620 *
HORIZONTAL_DATUM NAD83 *
HORIZONTAL_COORDINATE_SYSTEM UTM *
COORDINATE_ZONE 11 *
HORIZONTAL_UNITS METERS *
HORIZONTAL_RESOLUTION 1.000 *
SECONDARY_HORIZONTAL_DATUM NAD27 *
XY_ORIGIN 431310.000 3901350.000 *
SECONDARY_XY_ORIGIN 431389.910 3901154.880 *
NATION US *
STATE CA *
NW_QUAD_CORNER_XY 431769.410 3901025.430 *
NE_QUAD_CORNER_XY 437455.389 3900984.261 *
SE_QUAD_CORNER_XY 437407.422 3894052.830 *
SW_QUAD_CORNER_XY 431717.082 3894093.966 *
SECONDARY_NW_QUAD_XY 431767.822 3900827.125 *
SECONDARY_NE_QUAD_XY 437453.933 3900785.955 *
SECONDARY_SE_QUAD_XY 437405.967 3893854.709 *
SECONDARY_SW_QUAD_XY 431715.495 3893895.847 *
RMSE_XY 0.846 *
IMAGE_SOURCE "BLACK AND WHITE FILM" *
SOURCE_IMAGE_ID "NAPP 6850 20" *
SOURCE_IMAGE_DATE 1994 05 28 *
SOURCE_DEM_DATE 1973 01 01 *
AGENCY "WESTERN MAPPING CENTER (WMC)" *
PRODUCER "ANALYTICAL SURVEYS INC." *
PRODUCTION_SYSTEM "ORBIT OR_RECTIFY V.5.2" *
STANDARD_VERSION 1996 12 *
METADATA_DATE 1998 05 03 *
DATA_FILE_SIZE 49155450 *
BYTE_COUNT 6450 * * * * * * * * * * * * * * * * * * * * * * * * * * * * * * * * * * * * * *
END_USGS_HEADER *
