BEGIN_USGS_DOQ_HEADER *
QUADRANGLE_NAME "CALIFORNIA CITY NORTH" *
QUADRANT NE *
NORTH_LATITUDE 35 15 00.000 *
WEST_LONGITUDE -117 56 15.000 *
SOUTH_LATITUDE 35 11 15.000 *
EAST_LONGITUDE -117 52 30.000 *
PRODUCTION_DATE 1998 04 30 *
RASTER_ORDER LEFT_RIGHT/TOP_BOTTOM *
BAND_ORGANIZATION "SINGLE FILE" *
BAND_CONTENT BLACK&WHITE *
BITS_PER_PIXEL 8 *
SAMPLES_AND_LINES 6480 7620 *
HORIZONTAL_DATUM NAD83 *
HORIZONTAL_COORDINATE_SYSTEM UTM *
COORDINATE_ZONE 11 *
HORIZONTAL_UNITS METERS *
HORIZONTAL_RESOLUTION 1.000 *
SECONDARY_HORIZONTAL_DATUM NAD27 *
XY_ORIGIN 414240.000 3901500.000 *
SECONDARY_XY_ORIGIN 414320.137 3901305.005 *
NATION US *
STATE CA *
NW_QUAD_CORNER_XY 414711.301 3901170.420 *
NE_QUAD_CORNER_XY 420397.369 3901118.509 *
SE_QUAD_CORNER_XY 420336.317 3894186.973 *
SW_QUAD_CORNER_XY 414645.887 3894238.844 *
SECONDARY_NW_QUAD_XY 414709.316 3900972.119 *
SECONDARY_NE_QUAD_XY 420395.515 3900920.207 *
SECONDARY_SE_QUAD_XY 420334.465 3893988.856 *
SECONDARY_SW_QUAD_XY 414643.904 3894040.728 *
RMSE_XY 2.247 *
IMAGE_SOURCE "BLACK AND WHITE FILM" *
SOURCE_IMAGE_ID "NAPP 6850 145" *
SOURCE_IMAGE_DATE 1994 05 28 *
SOURCE_DEM_DATE 1973 01 01 *
AGENCY "WESTERN MAPPING CENTER (WMC)" *
PRODUCER "ANALYTICAL SURVEYS INC." *
PRODUCTION_SYSTEM "ORBIT OR_RECTIFY V.5.2" *
STANDARD_VERSION 1996 12 *
METADATA_DATE 1998 04 30 *
DATA_FILE_SIZE 49384080 *
BYTE_COUNT 6480 * * * * * * * * * * * * * * * * * * * * * * * * * * * * * * * * * * * * * *
END_USGS_HEADER *
