BEGIN_USGS_DOQ_HEADER *
QUADRANGLE_NAME "CALIFORNIA CITY NORTH" *
QUADRANT SW *
NORTH_LATITUDE 35 11 15.000 *
WEST_LONGITUDE -118 00 00.000 *
SOUTH_LATITUDE 35 07 30.000 *
EAST_LONGITUDE -117 56 15.000 *
PRODUCTION_DATE 1998 04 30 *
RASTER_ORDER LEFT_RIGHT/TOP_BOTTOM *
BAND_ORGANIZATION "SINGLE FILE" *
BAND_CONTENT BLACK&WHITE *
BITS_PER_PIXEL 8 *
SAMPLES_AND_LINES 6480 7620 *
HORIZONTAL_DATUM NAD83 *
HORIZONTAL_COORDINATE_SYSTEM UTM *
COORDINATE_ZONE 11 *
HORIZONTAL_UNITS METERS *
HORIZONTAL_RESOLUTION 1.000 *
SECONDARY_HORIZONTAL_DATUM NAD27 *
XY_ORIGIN 408480.000 3894600.000 *
SECONDARY_XY_ORIGIN 408560.265 3894404.946 *
NATION US *
STATE CA *
NW_QUAD_CORNER_XY 408955.424 3894294.293 *
NE_QUAD_CORNER_XY 414645.887 3894238.844 *
SE_QUAD_CORNER_XY 414580.575 3887307.337 *
SW_QUAD_CORNER_XY 408885.756 3887362.743 *
SECONDARY_NW_QUAD_XY 408953.307 3894096.178 *
SECONDARY_NE_QUAD_XY 414643.904 3894040.728 *
SECONDARY_SE_QUAD_XY 414578.593 3887109.408 *
SECONDARY_SW_QUAD_XY 408883.642 3887164.814 *
RMSE_XY 1.095 *
IMAGE_SOURCE "BLACK AND WHITE FILM" *
SOURCE_IMAGE_ID "NAPP 6850 182" *
SOURCE_IMAGE_DATE 1994 05 28 *
SOURCE_DEM_DATE 1973 01 01 *
AGENCY "WESTERN MAPPING CENTER (WMC)" *
PRODUCER "ANALYTICAL SURVEYS INC." *
PRODUCTION_SYSTEM "ORBIT OR_RECTIFY V.5.2" *
STANDARD_VERSION 1996 12 *
METADATA_DATE 1998 04 30 *
DATA_FILE_SIZE 49384080 *
BYTE_COUNT 6480 * * * * * * * * * * * * * * * * * * * * * * * * * * * * * * * * * * * * * *
END_USGS_HEADER *
