BEGIN_USGS_DOQ_HEADER *
QUADRANGLE_NAME "SUPERIOR VALLEY" *
QUADRANT NW *
NORTH_LATITUDE 35 22 30.000 *
WEST_LONGITUDE -117 07 30.000 *
SOUTH_LATITUDE 35 18 45.000 *
EAST_LONGITUDE -117 03 45.000 *
PRODUCTION_DATE 1998 04 23 *
RASTER_ORDER LEFT_RIGHT/TOP_BOTTOM *
BAND_ORGANIZATION "SINGLE FILE" *
BAND_CONTENT BLACK&WHITE *
BITS_PER_PIXEL 8 *
SAMPLES_AND_LINES 6390 7560 *
HORIZONTAL_DATUM NAD83 *
HORIZONTAL_COORDINATE_SYSTEM UTM *
COORDINATE_ZONE 11 *
HORIZONTAL_UNITS METERS *
HORIZONTAL_RESOLUTION 1.000 *
SECONDARY_HORIZONTAL_DATUM NAD27 *
XY_ORIGIN 488250.000 3914940.000 *
SECONDARY_XY_ORIGIN 488329.365 3914744.865 *
NATION US *
STATE CA *
NW_QUAD_CORNER_XY 488645.823 3914637.598 *
NE_QUAD_CORNER_XY 494322.913 3914632.220 *
SE_QUAD_CORNER_XY 494318.539 3907700.813 *
SW_QUAD_CORNER_XY 488637.076 3907706.186 *
SECONDARY_NW_QUAD_XY 488645.558 3914438.919 *
SECONDARY_NE_QUAD_XY 494322.780 3914433.541 *
SECONDARY_SE_QUAD_XY 494318.406 3907502.317 *
SECONDARY_SW_QUAD_XY 488636.811 3907507.691 *
RMSE_XY 1.084 *
IMAGE_SOURCE "BLACK AND WHITE FILM" *
SOURCE_IMAGE_ID "NAPP 6879 266" *
SOURCE_IMAGE_DATE 1995 10 07 *
SOURCE_DEM_DATE 1988 01 01 *
AGENCY "WESTERN MAPPING CENTER (WMC)" *
PRODUCER "ANALYTICAL SURVEYS INC." *
PRODUCTION_SYSTEM "ORBIT OR_RECTIFY V.5.2" *
STANDARD_VERSION 1996 12 *
METADATA_DATE 1998 04 28 *
DATA_FILE_SIZE 48314790 *
BYTE_COUNT 6390 * * * * * * * * * * * * * * * * * * * * * * * * * * * * * * * * * * * * *
END_USGS_HEADER *
