BEGIN_USGS_DOQ_HEADER *
QUADRANGLE_NAME "SUPERIOR VALLEY" *
QUADRANT SE *
NORTH_LATITUDE 35 18 45.000 *
WEST_LONGITUDE -117 03 45.000 *
SOUTH_LATITUDE 35 15 00.000 *
EAST_LONGITUDE -117 00 00.000 *
PRODUCTION_DATE 1998 04 23 *
RASTER_ORDER LEFT_RIGHT/TOP_BOTTOM *
BAND_ORGANIZATION "SINGLE FILE" *
BAND_CONTENT BLACK&WHITE *
BITS_PER_PIXEL 8 *
SAMPLES_AND_LINES 6390 7560 *
HORIZONTAL_DATUM NAD83 *
HORIZONTAL_COORDINATE_SYSTEM UTM *
COORDINATE_ZONE 11 *
HORIZONTAL_UNITS METERS *
HORIZONTAL_RESOLUTION 1.000 *
SECONDARY_HORIZONTAL_DATUM NAD27 *
XY_ORIGIN 493920.000 3908010.000 *
SECONDARY_XY_ORIGIN 493999.366 3907814.837 *
NATION US *
STATE CA *
NW_QUAD_CORNER_XY 494318.539 3907700.813 *
NE_QUAD_CORNER_XY 500000.000 3907699.021 *
SE_QUAD_CORNER_XY 500000.000 3900767.687 *
SW_QUAD_CORNER_XY 494314.172 3900769.476 *
SECONDARY_NW_QUAD_XY 494318.406 3907502.317 *
SECONDARY_NE_QUAD_XY 500000.000 3907500.526 *
SECONDARY_SE_QUAD_XY 500000.000 3900569.376 *
SECONDARY_SW_QUAD_XY 494314.039 3900571.166 *
RMSE_XY 0.743 *
IMAGE_SOURCE "BLACK AND WHITE FILM" *
SOURCE_IMAGE_ID "NAPP 6880 4" *
SOURCE_IMAGE_DATE 1995 10 07 *
SOURCE_DEM_DATE 1988 01 01 *
AGENCY "WESTERN MAPPING CENTER (WMC)" *
PRODUCER "ANALYTICAL SURVEYS INC." *
PRODUCTION_SYSTEM "ORBIT OR_RECTIFY V.5.2" *
STANDARD_VERSION 1996 12 *
METADATA_DATE 1998 04 28 *
DATA_FILE_SIZE 48314790 *
BYTE_COUNT 6390 * * * * * * * * * * * * * * * * * * * * * * * * * * * * * * * * * * * * *
END_USGS_HEADER *
