BEGIN_USGS_DOQ_HEADER *
QUADRANGLE_NAME "SLOCUM MOUNTAIN" *
QUADRANT NE *
NORTH_LATITUDE 35 22 30.000 *
WEST_LONGITUDE -117 11 15.000 *
SOUTH_LATITUDE 35 18 45.000 *
EAST_LONGITUDE -117 07 30.000 *
PRODUCTION_DATE 1998 04 23 *
RASTER_ORDER LEFT_RIGHT/TOP_BOTTOM *
BAND_ORGANIZATION "SINGLE FILE" *
BAND_CONTENT BLACK&WHITE *
BITS_PER_PIXEL 8 *
SAMPLES_AND_LINES 6420 7590 *
HORIZONTAL_DATUM NAD83 *
HORIZONTAL_COORDINATE_SYSTEM UTM *
COORDINATE_ZONE 11 *
HORIZONTAL_UNITS METERS *
HORIZONTAL_RESOLUTION 1.000 *
SECONDARY_HORIZONTAL_DATUM NAD27 *
XY_ORIGIN 482550.000 3914970.000 *
SECONDARY_XY_ORIGIN 482629.435 3914774.875 *
NATION US *
STATE CA *
NW_QUAD_CORNER_XY 482968.729 3914646.561 *
NE_QUAD_CORNER_XY 488645.823 3914637.598 *
SE_QUAD_CORNER_XY 488637.076 3907706.186 *
SW_QUAD_CORNER_XY 482955.608 3907715.142 *
SECONDARY_NW_QUAD_XY 482968.332 3914447.882 *
SECONDARY_NE_QUAD_XY 488645.558 3914438.919 *
SECONDARY_SE_QUAD_XY 488636.811 3907507.691 *
SECONDARY_SW_QUAD_XY 482955.210 3907516.647 *
RMSE_XY 1.777 *
IMAGE_SOURCE "BLACK AND WHITE FILM" *
SOURCE_IMAGE_ID "NAPP 6855 181" *
SOURCE_IMAGE_DATE 1994 05 29 *
SOURCE_DEM_DATE 1988 01 01 *
AGENCY "WESTERN MAPPING CENTER (WMC)" *
PRODUCER "ANALYTICAL SURVEYS INC." *
PRODUCTION_SYSTEM "ORBIT OR_RECTIFY V.5.2" *
STANDARD_VERSION 1996 12 *
METADATA_DATE 1998 04 28 *
DATA_FILE_SIZE 48734220 *
BYTE_COUNT 6420 * * * * * * * * * * * * * * * * * * * * * * * * * * * * * * * * * * * * * *
END_USGS_HEADER *
