BEGIN_USGS_DOQ_HEADER *
QUADRANGLE_NAME "SLOCUM MOUNTAIN" *
QUADRANT SE *
NORTH_LATITUDE 35 18 45.000 *
WEST_LONGITUDE -117 11 15.000 *
SOUTH_LATITUDE 35 15 00.000 *
EAST_LONGITUDE -117 07 30.000 *
PRODUCTION_DATE 1998 04 23 *
RASTER_ORDER LEFT_RIGHT/TOP_BOTTOM *
BAND_ORGANIZATION "SINGLE FILE" *
BAND_CONTENT BLACK&WHITE *
BITS_PER_PIXEL 8 *
SAMPLES_AND_LINES 6390 7590 *
HORIZONTAL_DATUM NAD83 *
HORIZONTAL_COORDINATE_SYSTEM UTM *
COORDINATE_ZONE 11 *
HORIZONTAL_UNITS METERS *
HORIZONTAL_RESOLUTION 1.000 *
SECONDARY_HORIZONTAL_DATUM NAD27 *
XY_ORIGIN 482550.000 3908040.000 *
SECONDARY_XY_ORIGIN 482629.531 3907844.859 *
NATION US *
STATE CA *
NW_QUAD_CORNER_XY 482955.608 3907715.142 *
NE_QUAD_CORNER_XY 488637.076 3907706.186 *
SE_QUAD_CORNER_XY 488628.341 3900774.846 *
SW_QUAD_CORNER_XY 482942.506 3900783.795 *
SECONDARY_NW_QUAD_XY 482955.210 3907516.647 *
SECONDARY_NE_QUAD_XY 488636.811 3907507.691 *
SECONDARY_SE_QUAD_XY 488628.077 3900576.535 *
SECONDARY_SW_QUAD_XY 482942.109 3900585.484 *
RMSE_XY 2.197 *
IMAGE_SOURCE "BLACK AND WHITE FILM" *
SOURCE_IMAGE_ID "NAPP 6855 179" *
SOURCE_IMAGE_DATE 1994 05 29 *
SOURCE_DEM_DATE 1988 01 01 *
AGENCY "WESTERN MAPPING CENTER (WMC)" *
PRODUCER "ANALYTICAL SURVEYS INC." *
PRODUCTION_SYSTEM "ORBIT OR_RECTIFY V.5.2" *
STANDARD_VERSION 1996 12 *
METADATA_DATE 1998 04 28 *
DATA_FILE_SIZE 48506490 *
BYTE_COUNT 6390 * * * * * * * * * * * * * * * * * * * * * * * * * * * * * * * * * * * * *
END_USGS_HEADER *
