BEGIN_USGS_DOQ_HEADER *
QUADRANGLE_NAME "BLACKWATER WELL" *
QUADRANT SE *
NORTH_LATITUDE 35 18 45.000 *
WEST_LONGITUDE -117 18 45.000 *
SOUTH_LATITUDE 35 15 00.000 *
EAST_LONGITUDE -117 15 00.000 *
PRODUCTION_DATE 1998 04 23 *
RASTER_ORDER LEFT_RIGHT/TOP_BOTTOM *
BAND_ORGANIZATION "SINGLE FILE" *
BAND_CONTENT BLACK&WHITE *
BITS_PER_PIXEL 8 *
SAMPLES_AND_LINES 6420 7590 *
HORIZONTAL_DATUM NAD83 *
HORIZONTAL_COORDINATE_SYSTEM UTM *
COORDINATE_ZONE 11 *
HORIZONTAL_UNITS METERS *
HORIZONTAL_RESOLUTION 1.000 *
SECONDARY_HORIZONTAL_DATUM NAD27 *
XY_ORIGIN 471180.000 3908070.000 *
SECONDARY_XY_ORIGIN 471259.662 3907874.887 *
NATION US *
STATE CA *
NW_QUAD_CORNER_XY 471592.649 3907743.801 *
NE_QUAD_CORNER_XY 477274.133 3907727.681 *
SE_QUAD_CORNER_XY 477256.664 3900796.324 *
SW_QUAD_CORNER_XY 471570.813 3900812.432 *
SECONDARY_NW_QUAD_XY 471591.987 3907545.307 *
SECONDARY_NE_QUAD_XY 477273.603 3907529.186 *
SECONDARY_SE_QUAD_XY 477256.135 3900598.013 *
SECONDARY_SW_QUAD_XY 471570.152 3900614.122 *
RMSE_XY 1.149 *
IMAGE_SOURCE "BLACK AND WHITE FILM" *
SOURCE_IMAGE_ID "NAPP 6855 12" *
SOURCE_IMAGE_DATE 1994 05 29 *
SOURCE_DEM_DATE 1988 01 01 *
AGENCY "WESTERN MAPPING CENTER (WMC)" *
PRODUCER "ANALYTICAL SURVEYS INC." *
PRODUCTION_SYSTEM "ORBIT OR_RECTIFY V.5.2" *
STANDARD_VERSION 1996 12 *
METADATA_DATE 1998 04 28 *
DATA_FILE_SIZE 48734220 *
BYTE_COUNT 6420 * * * * * * * * * * * * * * * * * * * * * * * * * * * * * * * * * * * * * *
END_USGS_HEADER *
