BEGIN_USGS_DOQ_HEADER *
QUADRANGLE_NAME "CUDDEBACK LAKE" *
QUADRANT NW *
NORTH_LATITUDE 35 22 30.000 *
WEST_LONGITUDE -117 30 00.000 *
SOUTH_LATITUDE 35 18 45.000 *
EAST_LONGITUDE -117 26 15.000 *
PRODUCTION_DATE 1998 04 28 *
RASTER_ORDER LEFT_RIGHT/TOP_BOTTOM *
BAND_ORGANIZATION "SINGLE FILE" *
BAND_CONTENT BLACK&WHITE *
BITS_PER_PIXEL 8 *
SAMPLES_AND_LINES 6450 7590 *
HORIZONTAL_DATUM NAD83 *
HORIZONTAL_COORDINATE_SYSTEM UTM *
COORDINATE_ZONE 11 *
HORIZONTAL_UNITS METERS *
HORIZONTAL_RESOLUTION 1.000 *
SECONDARY_HORIZONTAL_DATUM NAD27 *
XY_ORIGIN 454140.000 3915060.000 *
SECONDARY_XY_ORIGIN 454219.790 3914864.952 *
NATION US *
STATE CA *
NW_QUAD_CORNER_XY 454583.114 3914745.154 *
NE_QUAD_CORNER_XY 460260.264 3914718.265 *
SE_QUAD_CORNER_XY 460229.646 3907786.791 *
SW_QUAD_CORNER_XY 454548.121 3907813.660 *
SECONDARY_NW_QUAD_XY 454582.053 3914546.478 *
SECONDARY_NE_QUAD_XY 460259.336 3914519.588 *
SECONDARY_SE_QUAD_XY 460228.718 3907588.297 *
SECONDARY_SW_QUAD_XY 454547.061 3907615.167 *
RMSE_XY 1.011 *
IMAGE_SOURCE "BLACK AND WHITE FILM" *
SOURCE_IMAGE_ID "NAPP 6853 28" *
SOURCE_IMAGE_DATE 1994 05 28 *
SOURCE_DEM_DATE 1988 01 01 *
AGENCY "WESTERN MAPPING CENTER (WMC)" *
PRODUCER "ANALYTICAL SURVEYS INC." *
PRODUCTION_SYSTEM "ORBIT OR_RECTIFY V.5.2" *
STANDARD_VERSION 1996 12 *
METADATA_DATE 1998 04 29 *
DATA_FILE_SIZE 48961950 *
BYTE_COUNT 6450 * * * * * * * * * * * * * * * * * * * * * * * * * * * * * * * * * * * * * *
END_USGS_HEADER *
