BEGIN_USGS_DOQ_HEADER *
QUADRANGLE_NAME "CUDDEBACK LAKE" *
QUADRANT SE *
NORTH_LATITUDE 35 18 45.000 *
WEST_LONGITUDE -117 26 15.000 *
SOUTH_LATITUDE 35 15 00.000 *
EAST_LONGITUDE -117 22 30.000 *
PRODUCTION_DATE 1998 04 28 *
RASTER_ORDER LEFT_RIGHT/TOP_BOTTOM *
BAND_ORGANIZATION "SINGLE FILE" *
BAND_CONTENT BLACK&WHITE *
BITS_PER_PIXEL 8 *
SAMPLES_AND_LINES 6420 7590 *
HORIZONTAL_DATUM NAD83 *
HORIZONTAL_COORDINATE_SYSTEM UTM *
COORDINATE_ZONE 11 *
HORIZONTAL_UNITS METERS *
HORIZONTAL_RESOLUTION 1.000 *
SECONDARY_HORIZONTAL_DATUM NAD27 *
XY_ORIGIN 459810.000 3908100.000 *
SECONDARY_XY_ORIGIN 459889.778 3907904.919 *
NATION US *
STATE CA *
NW_QUAD_CORNER_XY 460229.646 3907786.791 *
NE_QUAD_CORNER_XY 465911.154 3907763.505 *
SE_QUAD_CORNER_XY 465884.951 3900832.120 *
SW_QUAD_CORNER_XY 460199.075 3900855.388 *
SECONDARY_NW_QUAD_XY 460228.718 3907588.297 *
SECONDARY_NE_QUAD_XY 465910.359 3907565.011 *
SECONDARY_SE_QUAD_XY 465884.157 3900633.811 *
SECONDARY_SW_QUAD_XY 460198.149 3900657.080 *
RMSE_XY 0.837 *
IMAGE_SOURCE "BLACK AND WHITE FILM" *
SOURCE_IMAGE_ID "NAPP 6854 12" *
SOURCE_IMAGE_DATE 1994 05 28 *
SOURCE_DEM_DATE 1988 01 01 *
AGENCY "WESTERN MAPPING CENTER (WMC)" *
PRODUCER "ANALYTICAL SURVEYS INC." *
PRODUCTION_SYSTEM "ORBIT OR_RECTIFY V.5.2" *
STANDARD_VERSION 1996 12 *
METADATA_DATE 1998 04 29 *
DATA_FILE_SIZE 48734220 *
BYTE_COUNT 6420 * * * * * * * * * * * * * * * * * * * * * * * * * * * * * * * * * * * * * *
END_USGS_HEADER *
