BEGIN_USGS_DOQ_HEADER *
QUADRANGLE_NAME "RED MOUNTAIN" *
QUADRANT NE *
NORTH_LATITUDE 35 22 30.000 *
WEST_LONGITUDE -117 33 45.000 *
SOUTH_LATITUDE 35 18 45.000 *
EAST_LONGITUDE -117 30 00.000 *
PRODUCTION_DATE 1998 04 23 *
RASTER_ORDER LEFT_RIGHT/TOP_BOTTOM *
BAND_ORGANIZATION "SINGLE FILE" *
BAND_CONTENT BLACK&WHITE *
BITS_PER_PIXEL 8 *
SAMPLES_AND_LINES 6420 7590 *
HORIZONTAL_DATUM NAD83 *
HORIZONTAL_COORDINATE_SYSTEM UTM *
COORDINATE_ZONE 11 *
HORIZONTAL_UNITS METERS *
HORIZONTAL_RESOLUTION 1.000 *
SECONDARY_HORIZONTAL_DATUM NAD27 *
XY_ORIGIN 448470.000 3915090.000 *
SECONDARY_XY_ORIGIN 448549.808 3914894.942 *
NATION US *
STATE CA *
NW_QUAD_CORNER_XY 448905.946 3914775.629 *
NE_QUAD_CORNER_XY 454583.114 3914745.154 *
SE_QUAD_CORNER_XY 454548.121 3907813.660 *
SW_QUAD_CORNER_XY 448866.579 3907844.111 *
SECONDARY_NW_QUAD_XY 448904.752 3914576.953 *
SECONDARY_NE_QUAD_XY 454582.053 3914546.478 *
SECONDARY_SE_QUAD_XY 454547.061 3907615.167 *
SECONDARY_SW_QUAD_XY 448865.386 3907645.619 *
RMSE_XY 1.264 *
IMAGE_SOURCE "BLACK AND WHITE FILM" *
SOURCE_IMAGE_ID "NAPP 6875 232" *
SOURCE_IMAGE_DATE 1995 10 04 *
SOURCE_DEM_DATE 1973 01 01 *
AGENCY "WESTERN MAPPING CENTER (WMC)" *
PRODUCER "ANALYTICAL SURVEYS INC." *
PRODUCTION_SYSTEM "ORBIT OR_RECTIFY V.5.2" *
STANDARD_VERSION 1996 12 *
METADATA_DATE 1998 04 25 *
DATA_FILE_SIZE 48734220 *
BYTE_COUNT 6420 * * * * * * * * * * * * * * * * * * * * * * * * * * * * * * * * * * * * * *
END_USGS_HEADER *
