BEGIN_USGS_DOQ_HEADER *
QUADRANGLE_NAME "RED MOUNTAIN" *
QUADRANT SE *
NORTH_LATITUDE 35 18 45.000 *
WEST_LONGITUDE -117 33 45.000 *
SOUTH_LATITUDE 35 15 00.000 *
EAST_LONGITUDE -117 30 00.000 *
PRODUCTION_DATE 1998 04 23 *
RASTER_ORDER LEFT_RIGHT/TOP_BOTTOM *
BAND_ORGANIZATION "SINGLE FILE" *
BAND_CONTENT BLACK&WHITE *
BITS_PER_PIXEL 8 *
SAMPLES_AND_LINES 6420 7590 *
HORIZONTAL_DATUM NAD83 *
HORIZONTAL_COORDINATE_SYSTEM UTM *
COORDINATE_ZONE 11 *
HORIZONTAL_UNITS METERS *
HORIZONTAL_RESOLUTION 1.000 *
SECONDARY_HORIZONTAL_DATUM NAD27 *
XY_ORIGIN 448440.000 3908160.000 *
SECONDARY_XY_ORIGIN 448519.848 3907964.925 *
NATION US *
STATE CA *
NW_QUAD_CORNER_XY 448866.579 3907844.111 *
NE_QUAD_CORNER_XY 454548.121 3907813.660 *
SE_QUAD_CORNER_XY 454513.183 3900882.236 *
SW_QUAD_CORNER_XY 448827.273 3900912.664 *
SECONDARY_NW_QUAD_XY 448865.386 3907645.619 *
SECONDARY_NE_QUAD_XY 454547.061 3907615.167 *
SECONDARY_SE_QUAD_XY 454512.124 3900683.928 *
SECONDARY_SW_QUAD_XY 448826.082 3900714.357 *
RMSE_XY 1.346 *
IMAGE_SOURCE "BLACK AND WHITE FILM" *
SOURCE_IMAGE_ID "NAPP 6875 234" *
SOURCE_IMAGE_DATE 1995 10 04 *
SOURCE_DEM_DATE 1973 01 01 *
AGENCY "WESTERN MAPPING CENTER (WMC)" *
PRODUCER "ANALYTICAL SURVEYS INC." *
PRODUCTION_SYSTEM "ORBIT OR_RECTIFY V.5.2" *
STANDARD_VERSION 1996 12 *
METADATA_DATE 1998 04 25 *
DATA_FILE_SIZE 48734220 *
BYTE_COUNT 6420 * * * * * * * * * * * * * * * * * * * * * * * * * * * * * * * * * * * * * *
END_USGS_HEADER *
