BEGIN_USGS_DOQ_HEADER *
QUADRANGLE_NAME "RED MOUNTAIN" *
QUADRANT SW *
NORTH_LATITUDE 35 18 45.000 *
WEST_LONGITUDE -117 37 30.000 *
SOUTH_LATITUDE 35 15 00.000 *
EAST_LONGITUDE -117 33 45.000 *
PRODUCTION_DATE 1998 04 23 *
RASTER_ORDER LEFT_RIGHT/TOP_BOTTOM *
BAND_ORGANIZATION "SINGLE FILE" *
BAND_CONTENT BLACK&WHITE *
BITS_PER_PIXEL 8 *
SAMPLES_AND_LINES 6450 7590 *
HORIZONTAL_DATUM NAD83 *
HORIZONTAL_COORDINATE_SYSTEM UTM *
COORDINATE_ZONE 11 *
HORIZONTAL_UNITS METERS *
HORIZONTAL_RESOLUTION 1.000 *
SECONDARY_HORIZONTAL_DATUM NAD27 *
XY_ORIGIN 442740.000 3908190.000 *
SECONDARY_XY_ORIGIN 442819.861 3907994.915 *
NATION US *
STATE CA *
NW_QUAD_CORNER_XY 443185.016 3907878.146 *
NE_QUAD_CORNER_XY 448866.579 3907844.111 *
SE_QUAD_CORNER_XY 448827.273 3900912.664 *
SW_QUAD_CORNER_XY 443141.342 3900946.673 *
SECONDARY_NW_QUAD_XY 443183.691 3907679.654 *
SECONDARY_NE_QUAD_XY 448865.386 3907645.619 *
SECONDARY_SE_QUAD_XY 448826.082 3900714.357 *
SECONDARY_SW_QUAD_XY 443140.018 3900748.366 *
RMSE_XY 0.765 *
IMAGE_SOURCE "BLACK AND WHITE FILM" *
SOURCE_IMAGE_ID "NAPP 6852 38" *
SOURCE_IMAGE_DATE 1994 05 28 *
SOURCE_DEM_DATE 1973 01 01 *
AGENCY "WESTERN MAPPING CENTER (WMC)" *
PRODUCER "ANALYTICAL SURVEYS INC." *
PRODUCTION_SYSTEM "ORBIT OR_RECTIFY V.5.2" *
STANDARD_VERSION 1996 12 *
METADATA_DATE 1998 04 25 *
DATA_FILE_SIZE 48961950 *
BYTE_COUNT 6450 * * * * * * * * * * * * * * * * * * * * * * * * * * * * * * * * * * * * * *
END_USGS_HEADER *
